BEGIN:VCALENDAR
VERSION:2.0
PRODID:-//Commune de Cessy - ECPv6.15.11//NONSGML v1.0//EN
CALSCALE:GREGORIAN
METHOD:PUBLISH
X-ORIGINAL-URL:https://www.mairie-cessy.fr
X-WR-CALDESC:Évènements pour Commune de Cessy
REFRESH-INTERVAL;VALUE=DURATION:PT1H
X-Robots-Tag:noindex
X-PUBLISHED-TTL:PT1H
BEGIN:VTIMEZONE
TZID:Europe/Paris
BEGIN:DAYLIGHT
TZOFFSETFROM:+0100
TZOFFSETTO:+0200
TZNAME:CEST
DTSTART:20220327T010000
END:DAYLIGHT
BEGIN:STANDARD
TZOFFSETFROM:+0200
TZOFFSETTO:+0100
TZNAME:CET
DTSTART:20221030T010000
END:STANDARD
BEGIN:DAYLIGHT
TZOFFSETFROM:+0100
TZOFFSETTO:+0200
TZNAME:CEST
DTSTART:20230326T010000
END:DAYLIGHT
BEGIN:STANDARD
TZOFFSETFROM:+0200
TZOFFSETTO:+0100
TZNAME:CET
DTSTART:20231029T010000
END:STANDARD
BEGIN:DAYLIGHT
TZOFFSETFROM:+0100
TZOFFSETTO:+0200
TZNAME:CEST
DTSTART:20240331T010000
END:DAYLIGHT
BEGIN:STANDARD
TZOFFSETFROM:+0200
TZOFFSETTO:+0100
TZNAME:CET
DTSTART:20241027T010000
END:STANDARD
END:VTIMEZONE
BEGIN:VEVENT
DTSTART;VALUE=DATE:20230903
DTEND;VALUE=DATE:20230904
DTSTAMP:20260423T061719
CREATED:20230720T082453Z
LAST-MODIFIED:20230822T143241Z
UID:5248-1693699200-1693785599@www.mairie-cessy.fr
SUMMARY:Vide grenier
DESCRIPTION:Farfouiller\, chiner\, deviennent un jeu et un plaisir pour petits et grands.\nCette journée permet à chacun de replonger dans le passé à travers de vieux objets hétéroclites ressortis des caves\, des greniers et des garages. \nL’objectif étant de faire des bonnes affaires\, mais aussi de donner une nouvelle vie à des objets. Vaisselles\, jouets\, disques\, mobilier\, … il y en aura pour tous les goûts. \n+ informations : 04 50 41 47 70 – pat.duranton@free.fr \nInscriptions : Les 28\, 29 et 30 août de 17h30 à 19h30 à la salle du Vidolet
URL:https://www.mairie-cessy.fr/evenement/vide-grenier/
LOCATION:Ain
CATEGORIES:Associatifs
ATTACH;FMTTYPE=image/jpeg:https://www.mairie-cessy.fr/wp-content/uploads/2023/07/Vide-grenier_Cessy-Animations-1.jpg
ORGANIZER;CN="Cessy Animations":MAILTO:pat.duranton@free.fr
END:VEVENT
BEGIN:VEVENT
DTSTART;TZID=Europe/Paris:20230903T070000
DTEND;TZID=Europe/Paris:20230903T170000
DTSTAMP:20260423T061719
CREATED:20230828T135708Z
LAST-MODIFIED:20230828T135708Z
UID:5649-1693724400-1693760400@www.mairie-cessy.fr
SUMMARY:Concours de pêche aux poissons-chats
DESCRIPTION:L’Amicale des Pêcheurs de l’Étang de Cessy organise un concours de pêche aux poissons chats. \n📅 Dimanche 3 septembre \n🕐 De 7h à 17h. \n📍 Étang de Cessy \n👉 Ouvert à tous – gratuit \nInitiations à la pêche de 10h à 12h et de 14h à 16h : les appâts et le matériel seront mis à disposition des pêcheurs pour cette activité \nInscription obligatoire à partir de 7h. Dernière heure pour la pesée 17h. \nTechnique de pêche : 1 canne avec ou sans moulinet – ligne – hameçon. \nEspèces pêchées : poisson-chat – perche soleil – écrevisses \nAmorçage : seulement avec des farines végétales\, en quantité modérée \n 
URL:https://www.mairie-cessy.fr/evenement/concours-de-peche-aux-poissons-chats/
LOCATION:Etang de Cessy
CATEGORIES:Associatifs,Nature
ATTACH;FMTTYPE=image/jpeg:https://www.mairie-cessy.fr/wp-content/uploads/2023/08/FB_IMG_1693226942853.jpg
END:VEVENT
BEGIN:VEVENT
DTSTART;TZID=Europe/Paris:20230912T080000
DTEND;TZID=Europe/Paris:20230930T170000
DTSTAMP:20260423T061719
CREATED:20230912T072918Z
LAST-MODIFIED:20230912T072918Z
UID:5788-1694505600-1696093200@www.mairie-cessy.fr
SUMMARY:Reprise des cours de Yoga\, un art de soi
DESCRIPTION:YOGA ADAPTÉ & MATERNITÉ \nLes jeudis de 9h30 à 10h30 à Cessy \n \nYOGA ENFANTS 6/10 ANS \nLes mercredis de septembre à avril de 9h30 à 10h30 à Cessy
URL:https://www.mairie-cessy.fr/evenement/reprise-des-cours-de-yoga-un-art-de-soi/
LOCATION:Espace Mont Blanc
CATEGORIES:Associatifs
ATTACH;FMTTYPE=image/jpeg:https://www.mairie-cessy.fr/wp-content/uploads/2023/09/cours-yoga-adapte.jpg
END:VEVENT
BEGIN:VEVENT
DTSTART;TZID=Europe/Paris:20230928T140000
DTEND;TZID=Europe/Paris:20230928T160000
DTSTAMP:20260423T061719
CREATED:20230925T152342Z
LAST-MODIFIED:20230925T152342Z
UID:5893-1695909600-1695916800@www.mairie-cessy.fr
SUMMARY:Le groupe de partage des proches aidants
DESCRIPTION:Dans sa démarche d’accompagnement des proches aidants\, l’ADAPA poursuit l’organisation de temps de rencontres à destination des aidants. \n Un jeudi par mois\, les proches aidants ont la possibilité de se retrouver dans un cadre convivial\, chaleureux et bienveillant pour échanger sur des thématiques liées à leur statut. \nLe Groupe de partage est ouvert à tous les proches aidants\, qu’ils accompagnent une personne malade\, en situation de handicap ou dépendante du fait de l’âge. \nL’accès est gratuit et sans engagement. Pour des raisons d’organisation\, nous demandons aux personnes intéressées de nous indiquer par mail ou message leur intention de participation. \nAfin de faciliter la participation\, nous pouvons étudier les demandes de garde ou d’aide aux déplacements. \nLe prochain groupe de partage de Prévessin-Moëns aura lieu Jeudi 28 septembre de 14h à 16h sur la thématique ALIMENTATION SANTE \nà l’adresse suivante : Maison des familles – 74 Impasse du goûter – 01280 PREVESSIN-MOENS. \n+ d’informations 
URL:https://www.mairie-cessy.fr/evenement/le-groupe-de-partage-des-proches-aidants/
LOCATION:Maison des Familles\, 74 impasse du goûter\, Prevessin\, 01280
CATEGORIES:Associatifs
ATTACH;FMTTYPE=image/png:https://www.mairie-cessy.fr/wp-content/uploads/2023/09/ADAPA.png
ORGANIZER;CN="ADAPA":MAILTO:C.BURTIN@adapa01.com
END:VEVENT
BEGIN:VEVENT
DTSTART;TZID=Europe/Paris:20230930T130000
DTEND;TZID=Europe/Paris:20230930T180000
DTSTAMP:20260423T061719
CREATED:20230720T081346Z
LAST-MODIFIED:20230828T102030Z
UID:5243-1696078800-1696096800@www.mairie-cessy.fr
SUMMARY:Bourse enfantine
DESCRIPTION:Le samedi 30 septembre 2023 de 13h à 18h\, le sou des écoles de Cessy organise la bourse enfantine  à la salle du Vidolet. \nLes visiteurs pourront venir y chiner du matériel de puériculture\, des jouets\, des livres mais aussi des vêtements pour les enfants de 0 à 16 ans. \nLa reprise des invendus aura lieu le dimanche 1er octobre 2023 entre 10h et 12h\nLa répartition des bénéfices :\n– 70% pour le vendeur\n– 30% pour le Sou des écoles de Cessy \nDate limite d’inscription : mercredi 27 septembre 2023 à 20h \nDossier d’inscription et informations :  boursesoudesecoles.cessy@gmail.com \n 
URL:https://www.mairie-cessy.fr/evenement/bourse-enfantine/
LOCATION:Espace du Vidolet\, rue de la Mairie\, Cessy\, Ain\, 01170\, France
CATEGORIES:Associatifs
ATTACH;FMTTYPE=image/jpeg:https://www.mairie-cessy.fr/wp-content/uploads/2023/07/Bourse-enfantine-sou-des-ecoles.jpg
ORGANIZER;CN="Sou des Ecoles de Cessy":MAILTO:soudesecolesdecessy@gmail.com
END:VEVENT
END:VCALENDAR