BEGIN:VCALENDAR
VERSION:2.0
PRODID:-//Commune de Cessy - ECPv6.15.11//NONSGML v1.0//EN
CALSCALE:GREGORIAN
METHOD:PUBLISH
X-ORIGINAL-URL:https://www.mairie-cessy.fr
X-WR-CALDESC:Évènements pour Commune de Cessy
REFRESH-INTERVAL;VALUE=DURATION:PT1H
X-Robots-Tag:noindex
X-PUBLISHED-TTL:PT1H
BEGIN:VTIMEZONE
TZID:Europe/Paris
BEGIN:DAYLIGHT
TZOFFSETFROM:+0100
TZOFFSETTO:+0200
TZNAME:CEST
DTSTART:20220327T010000
END:DAYLIGHT
BEGIN:STANDARD
TZOFFSETFROM:+0200
TZOFFSETTO:+0100
TZNAME:CET
DTSTART:20221030T010000
END:STANDARD
BEGIN:DAYLIGHT
TZOFFSETFROM:+0100
TZOFFSETTO:+0200
TZNAME:CEST
DTSTART:20230326T010000
END:DAYLIGHT
BEGIN:STANDARD
TZOFFSETFROM:+0200
TZOFFSETTO:+0100
TZNAME:CET
DTSTART:20231029T010000
END:STANDARD
BEGIN:DAYLIGHT
TZOFFSETFROM:+0100
TZOFFSETTO:+0200
TZNAME:CEST
DTSTART:20240331T010000
END:DAYLIGHT
BEGIN:STANDARD
TZOFFSETFROM:+0200
TZOFFSETTO:+0100
TZNAME:CET
DTSTART:20241027T010000
END:STANDARD
END:VTIMEZONE
BEGIN:VEVENT
DTSTART;TZID=Europe/Paris:20231105T100000
DTEND;TZID=Europe/Paris:20231105T170000
DTSTAMP:20260423T032727
CREATED:20231018T102028Z
LAST-MODIFIED:20231018T102028Z
UID:6092-1699178400-1699203600@www.mairie-cessy.fr
SUMMARY:Cyclo cross de Cessy
DESCRIPTION:
URL:https://www.mairie-cessy.fr/evenement/cyclo-cross-de-cessy/
LOCATION:Etang de Cessy
CATEGORIES:Associatifs
ATTACH;FMTTYPE=image/jpeg:https://www.mairie-cessy.fr/wp-content/uploads/2023/10/thumbnail_Affiche2023.CessyInternet.jpg
ORGANIZER;CN="Union Cycliste Gessienne":MAILTO:cyclisme@ucgessienne.fr
END:VEVENT
BEGIN:VEVENT
DTSTART;VALUE=DATE:20231111
DTEND;VALUE=DATE:20231112
DTSTAMP:20260423T032727
CREATED:20231018T101822Z
LAST-MODIFIED:20231018T102107Z
UID:6088-1699660800-1699747199@www.mairie-cessy.fr
SUMMARY:P'tit dèj spectacle
DESCRIPTION:A ne pas manquer ! \n> Samedi  11 novembre  –  10h15 et 16h – Salle du Vidolet \nVous voulez rire ?   Cie Les Frères Duchoc \nMarionnettes très musicales \nDe 3 à 11 ans – 40 mn \nDans un magnifique castelet totalement fabriqué en planches de récupérations\, deux marionnettistes s’affairent à faire vivre un bestiaire fabriqué de bric et de broc…de tôle et de bois. \nA travers ce spectacle qui respecte fidèlement l’univers graphique de Christian Voltz\, les Frères Duchoc nous font vivre un moment plein d’humour\, de poésie et de philosophie. \nhttp://www.duchoc.com/ \n Billetterie en ligne \n 
URL:https://www.mairie-cessy.fr/evenement/ptit-dej-spectacle/
LOCATION:Espace du Vidolet\, rue de la Mairie\, Cessy\, Ain\, 01170\, France
CATEGORIES:Associatifs,Enfance/jeunesse
ATTACH;FMTTYPE=image/jpeg:https://www.mairie-cessy.fr/wp-content/uploads/2023/10/Post-facebook-11-nov-.jpg
ORGANIZER;CN="Centre Socioculturel Les Libellules":MAILTO:secretariat@cscleslibellules.fr
END:VEVENT
BEGIN:VEVENT
DTSTART;TZID=Europe/Paris:20231118T190000
DTEND;TZID=Europe/Paris:20231119T170000
DTSTAMP:20260423T032727
CREATED:20231113T095610Z
LAST-MODIFIED:20231113T110108Z
UID:6257-1700334000-1700413200@www.mairie-cessy.fr
SUMMARY:Lotos du Sou des écoles de Cessy
DESCRIPTION:Le Sou des écoles de Cessy organise son traditionnel loto \n\nle samedi 18 novembre à 20h30 – 16€ le carton – 25 parties dont 1 partie Royale 3€\n\nDe nombreux lots dont 1 voyage d’une valeur de 1500€ \n\nle dimanche 19 novembre à 14h30 – LOTO DES FAMILLES – 10 € le carton – 15 parties dont 1 partie Royale 3€ et dont 2 parties gratuites uniquement pour les enfants de l’école du Verger de Cessy\n\nDe nombreux lots dont 1 voyage d’une valeur de 1000€ \n  \nOuverture des portes 1h avant le début du loto – Buvette et petite restauration sur place
URL:https://www.mairie-cessy.fr/evenement/loto-du-sou-des-ecoles-de-cessy/
LOCATION:Espace du Vidolet\, rue de la Mairie\, Cessy\, Ain\, 01170\, France
CATEGORIES:Associatifs
ATTACH;FMTTYPE=image/png:https://www.mairie-cessy.fr/wp-content/uploads/2023/10/Loto-copie.png
ORGANIZER;CN="Sou des Ecoles de Cessy":MAILTO:soudesecolesdecessy@gmail.com
END:VEVENT
BEGIN:VEVENT
DTSTART;TZID=Europe/Paris:20231125T183000
DTEND;TZID=Europe/Paris:20231125T183000
DTSTAMP:20260423T032727
CREATED:20231113T091539Z
LAST-MODIFIED:20231113T091539Z
UID:6254-1700937000-1700937000@www.mairie-cessy.fr
SUMMARY:Sainte Barbe 2023
DESCRIPTION:Les sapeurs-pompiers de Cessy ont le plaisir de vous inviter à la traditionnelle cérémonie de la Saint-Barbe qui aura lieu le samedi 25 novembre 2023 à 18h30 à la salle du Vidolet. \nLa cérémonie sera suivie d’un vin d’honneur.
URL:https://www.mairie-cessy.fr/evenement/sainte-barbe-2023/
LOCATION:Espace du Vidolet\, rue de la Mairie\, Cessy\, Ain\, 01170\, France
CATEGORIES:Associatifs
ATTACH;FMTTYPE=image/jpeg:https://www.mairie-cessy.fr/wp-content/uploads/2023/11/Invitation_Ceremonie.jpg
END:VEVENT
END:VCALENDAR