BEGIN:VCALENDAR
VERSION:2.0
PRODID:-//Commune de Cessy - ECPv6.15.11//NONSGML v1.0//EN
CALSCALE:GREGORIAN
METHOD:PUBLISH
X-WR-CALNAME:Commune de Cessy
X-ORIGINAL-URL:https://www.mairie-cessy.fr
X-WR-CALDESC:Évènements pour Commune de Cessy
REFRESH-INTERVAL;VALUE=DURATION:PT1H
X-Robots-Tag:noindex
X-PUBLISHED-TTL:PT1H
BEGIN:VTIMEZONE
TZID:Europe/Paris
BEGIN:DAYLIGHT
TZOFFSETFROM:+0100
TZOFFSETTO:+0200
TZNAME:CEST
DTSTART:20230326T010000
END:DAYLIGHT
BEGIN:STANDARD
TZOFFSETFROM:+0200
TZOFFSETTO:+0100
TZNAME:CET
DTSTART:20231029T010000
END:STANDARD
BEGIN:DAYLIGHT
TZOFFSETFROM:+0100
TZOFFSETTO:+0200
TZNAME:CEST
DTSTART:20240331T010000
END:DAYLIGHT
BEGIN:STANDARD
TZOFFSETFROM:+0200
TZOFFSETTO:+0100
TZNAME:CET
DTSTART:20241027T010000
END:STANDARD
BEGIN:DAYLIGHT
TZOFFSETFROM:+0100
TZOFFSETTO:+0200
TZNAME:CEST
DTSTART:20250330T010000
END:DAYLIGHT
BEGIN:STANDARD
TZOFFSETFROM:+0200
TZOFFSETTO:+0100
TZNAME:CET
DTSTART:20251026T010000
END:STANDARD
END:VTIMEZONE
BEGIN:VEVENT
DTSTART;TZID=Europe/Paris:20240901T090000
DTEND;TZID=Europe/Paris:20240901T180000
DTSTAMP:20260422T131042
CREATED:20240802T080052Z
LAST-MODIFIED:20240802T080052Z
UID:8447-1725181200-1725213600@www.mairie-cessy.fr
SUMMARY:Vide grenier
DESCRIPTION:Le traditionnel vide ­grenier organisé par Cessy Animations se tiendra le dimanche 1er septembre à Cessy\, à la plaine du Vidolet.\n\n\nPour réserver un emplacement\, des permanences sont organisées à la salle du Vidolet\, les 26\, 27 et 28 août de 17h30 à 19h30.
URL:https://www.mairie-cessy.fr/evenement/vide-grenier-2/
LOCATION:Espace du Vidolet\, rue de la Mairie\, Cessy\, Ain\, 01170\, France
CATEGORIES:Associatifs
ATTACH;FMTTYPE=image/jpeg:https://www.mairie-cessy.fr/wp-content/uploads/2024/08/20230903_113544-scaled.jpg
ORGANIZER;CN="Cessy Animations":MAILTO:pat.duranton@free.fr
END:VEVENT
BEGIN:VEVENT
DTSTART;TZID=Europe/Paris:20240914T203000
DTEND;TZID=Europe/Paris:20240914T203000
DTSTAMP:20260422T131042
CREATED:20230720T082735Z
LAST-MODIFIED:20240829T090313Z
UID:5252-1726345800-1726345800@www.mairie-cessy.fr
SUMMARY:Loto d'Éclat
DESCRIPTION:L’Association Éclat vous attend nombreux à son loto édition 2024 qui aura lieu le samedi 14 septembre à 20h30 à la salle du Vidolet (ouverture des portes à 19h00) \n\nBon voyage 1200€ – week-end gastronomique – trottinette électrique – robot cuiseur connecté – drone  – paniers garnis – paniers régionaux  et de nombreux lots !\n\nVenez tenter votre chance ! Restauration et buvette sur place. \n16€ le carton pour 25 parties + une partie royale à 3€ \nMerci pour votre soutien. \n+ d’informations : 04.50.42.28.05 – contact@association-eclat.org
URL:https://www.mairie-cessy.fr/evenement/loto-declat/
LOCATION:Espace du Vidolet\, rue de la Mairie\, Cessy\, Ain\, 01170\, France
CATEGORIES:Associatifs
ATTACH;FMTTYPE=image/jpeg:https://www.mairie-cessy.fr/wp-content/uploads/2023/07/2024-Affiche-loto-ECLAT-scaled.jpg
ORGANIZER;CN="Association ECLAT":MAILTO:contact@association-eclat.org
END:VEVENT
BEGIN:VEVENT
DTSTART;TZID=Europe/Paris:20240928T130000
DTEND;TZID=Europe/Paris:20240928T180000
DTSTAMP:20260422T131042
CREATED:20240802T080515Z
LAST-MODIFIED:20240802T080515Z
UID:8450-1727528400-1727546400@www.mairie-cessy.fr
SUMMARY:Bourse enfantine
DESCRIPTION:Le samedi 28 septembre\, le Sou des écoles de Cessy organise sa traditionnelle bourse enfantine dédiée aux enfants : vêtements de 0 à 16 ans\, jouets\, livres\, articles de puériculture…
URL:https://www.mairie-cessy.fr/evenement/bourse-enfantine-2/
LOCATION:Espace du Vidolet\, rue de la Mairie\, Cessy\, Ain\, 01170\, France
CATEGORIES:Associatifs
ATTACH;FMTTYPE=image/jpeg:https://www.mairie-cessy.fr/wp-content/uploads/2024/08/bourse-enfantine.jpg
ORGANIZER;CN="Sou des Ecoles de Cessy":MAILTO:soudesecolesdecessy@gmail.com
END:VEVENT
END:VCALENDAR