BEGIN:VCALENDAR
VERSION:2.0
PRODID:-//Commune de Cessy - ECPv6.15.11//NONSGML v1.0//EN
CALSCALE:GREGORIAN
METHOD:PUBLISH
X-ORIGINAL-URL:https://www.mairie-cessy.fr
X-WR-CALDESC:Évènements pour Commune de Cessy
REFRESH-INTERVAL;VALUE=DURATION:PT1H
X-Robots-Tag:noindex
X-PUBLISHED-TTL:PT1H
BEGIN:VTIMEZONE
TZID:Europe/Paris
BEGIN:DAYLIGHT
TZOFFSETFROM:+0100
TZOFFSETTO:+0200
TZNAME:CEST
DTSTART:20220327T010000
END:DAYLIGHT
BEGIN:STANDARD
TZOFFSETFROM:+0200
TZOFFSETTO:+0100
TZNAME:CET
DTSTART:20221030T010000
END:STANDARD
BEGIN:DAYLIGHT
TZOFFSETFROM:+0100
TZOFFSETTO:+0200
TZNAME:CEST
DTSTART:20230326T010000
END:DAYLIGHT
BEGIN:STANDARD
TZOFFSETFROM:+0200
TZOFFSETTO:+0100
TZNAME:CET
DTSTART:20231029T010000
END:STANDARD
BEGIN:DAYLIGHT
TZOFFSETFROM:+0100
TZOFFSETTO:+0200
TZNAME:CEST
DTSTART:20240331T010000
END:DAYLIGHT
BEGIN:STANDARD
TZOFFSETFROM:+0200
TZOFFSETTO:+0100
TZNAME:CET
DTSTART:20241027T010000
END:STANDARD
END:VTIMEZONE
BEGIN:VEVENT
DTSTART;TZID=Europe/Paris:20230514T100000
DTEND;TZID=Europe/Paris:20230514T170000
DTSTAMP:20260423T130011
CREATED:20230502T101111Z
LAST-MODIFIED:20230503T120508Z
UID:4492-1684058400-1684083600@www.mairie-cessy.fr
SUMMARY:Color run\, Pass sport & forum des associations
DESCRIPTION:La course colorée se déroulera le dimanche 14 mai en prélude au Pass’Sport et forum des associations. Organisée par la municipalité de Cessy\, en partenariat avec l’association Monts Jura Handisports\, cette année la poudre et les kits seront au rendez-vous ! Les recettes seront entièrement reversées à l’association. \nLe départ sera donné sur la place du Vidolet\, à 10h\, après un échauffement en musique. La distance à parcourir est de 5 kilomètres et on peut le faire en courant ou en marchant. \nInscriptions en ligne : les places sont limitées à 500 participants. \nLes inscriptions vous permettent d’acheter vos billets en groupe ou individuellement. Elles vous donneront accès à la course et la possibilité de récupérer votre kit. https://www.njuko.net/colorruncessy2023 \nTarifs : 10 € pour les enfants de plus de 6 ans et moins de 12 ans\, 15€ pour les adultes et enfants de plus de 12 ans.  \n  \nLe Pass’Sport et forum des associations se tiendra de 10h à 17h. Chaque association cessienne\, sportive\, culturelle\, de loisirs et autres\, présentera ses activités et recueillera inscriptions et adhésions. \n \n  \nBuvette et restauration sur place par l’Amicale du Personnel de Cessy.
URL:https://www.mairie-cessy.fr/evenement/color-run-pass-sport-forum-des-associations/
LOCATION:Espace du Vidolet\, rue de la Mairie\, Cessy\, Ain\, 01170\, France
CATEGORIES:Associatifs,culturel,Sportifs
ATTACH;FMTTYPE=image/jpeg:https://www.mairie-cessy.fr/wp-content/uploads/2023/05/Format-carre.jpg
ORGANIZER;CN="Mairie":MAILTO:mairie-cessy@mairie-cessy.fr
END:VEVENT
END:VCALENDAR