BEGIN:VCALENDAR
VERSION:2.0
PRODID:-//Commune de Cessy - ECPv6.15.11//NONSGML v1.0//EN
CALSCALE:GREGORIAN
METHOD:PUBLISH
X-WR-CALNAME:Commune de Cessy
X-ORIGINAL-URL:https://www.mairie-cessy.fr
X-WR-CALDESC:Évènements pour Commune de Cessy
REFRESH-INTERVAL;VALUE=DURATION:PT1H
X-Robots-Tag:noindex
X-PUBLISHED-TTL:PT1H
BEGIN:VTIMEZONE
TZID:Europe/Paris
BEGIN:DAYLIGHT
TZOFFSETFROM:+0100
TZOFFSETTO:+0200
TZNAME:CEST
DTSTART:20220327T010000
END:DAYLIGHT
BEGIN:STANDARD
TZOFFSETFROM:+0200
TZOFFSETTO:+0100
TZNAME:CET
DTSTART:20221030T010000
END:STANDARD
BEGIN:DAYLIGHT
TZOFFSETFROM:+0100
TZOFFSETTO:+0200
TZNAME:CEST
DTSTART:20230326T010000
END:DAYLIGHT
BEGIN:STANDARD
TZOFFSETFROM:+0200
TZOFFSETTO:+0100
TZNAME:CET
DTSTART:20231029T010000
END:STANDARD
BEGIN:DAYLIGHT
TZOFFSETFROM:+0100
TZOFFSETTO:+0200
TZNAME:CEST
DTSTART:20240331T010000
END:DAYLIGHT
BEGIN:STANDARD
TZOFFSETFROM:+0200
TZOFFSETTO:+0100
TZNAME:CET
DTSTART:20241027T010000
END:STANDARD
END:VTIMEZONE
BEGIN:VEVENT
DTSTART;TZID=Europe/Paris:20230604T100000
DTEND;TZID=Europe/Paris:20230604T180000
DTSTAMP:20260423T112751
CREATED:20230505T091937Z
LAST-MODIFIED:20230505T092012Z
UID:4536-1685872800-1685901600@www.mairie-cessy.fr
SUMMARY:FESTY’JEUX : embarquez pour la seconde édition à Cessy !
DESCRIPTION:Dimanche 4 juin\, de 10h à 18h\, le festival Tôt ou T’Arts revient à Cessy à l’occasion de Festy’Jeux\, un nouvel évènement festif et familial autour du jeu\, créé et animé en partenariat avec la ludothèque du Centre Socioculturel « Les Libellules » de Gex. \nCe festival des arts de la rue\, nomade\, incontournable et accessible au plus grand nombre fait escale chaque année dans différentes villes du Pays de Gex. \nVenez découvrir les différents espaces de jeux : Festy’Jeux sera aménagé selon 7 espaces\, par thème ou par type\, avec une centaine de jeux pour tous les publics ! En accès libre\, les enfants devront rester sous la surveillance des parents. \nAu programme : une déambulation musicale surprenante dès 11h30\, 15h00 et 16h30 : « La Balade des Barons Barrés » par la Cie les Petits Détournements. Sous leurs airs d’aristos\, les Barons\, tout de jute vêtus\, vous conduisent dans leur univers tordu et circassien. Sur des partitions empruntées à la musique traditionnelle de nombreux pays d’Europe et d’ailleurs. \nCet évènement aura lieu en extérieur aux abords de la salle du Vidolet (424\, rue de la mairie 01170 Cessy). Dans le cas d’une mauvaise météo\, le repli est prévu dans la salle du Vidolet. \nPetite restauration sur place – Buvette tenue par le Sou des Ecoles de Cessy. \n 
URL:https://www.mairie-cessy.fr/evenement/festyjeux-embarquez-pour-la-seconde-edition-a-cessy/
LOCATION:Espace du Vidolet\, rue de la Mairie\, Cessy\, Ain\, 01170\, France
CATEGORIES:Associatifs
ATTACH;FMTTYPE=image/jpeg:https://www.mairie-cessy.fr/wp-content/uploads/2023/05/Flyer-recto_Festy-Jeux-copie-2.jpg
ORGANIZER;CN="Mairie":MAILTO:mairie-cessy@mairie-cessy.fr
END:VEVENT
END:VCALENDAR