BEGIN:VCALENDAR
VERSION:2.0
PRODID:-//Commune de Cessy - ECPv6.15.11//NONSGML v1.0//EN
CALSCALE:GREGORIAN
METHOD:PUBLISH
X-WR-CALNAME:Commune de Cessy
X-ORIGINAL-URL:https://www.mairie-cessy.fr
X-WR-CALDESC:Évènements pour Commune de Cessy
REFRESH-INTERVAL;VALUE=DURATION:PT1H
X-Robots-Tag:noindex
X-PUBLISHED-TTL:PT1H
BEGIN:VTIMEZONE
TZID:Europe/Paris
BEGIN:DAYLIGHT
TZOFFSETFROM:+0100
TZOFFSETTO:+0200
TZNAME:CEST
DTSTART:20220327T010000
END:DAYLIGHT
BEGIN:STANDARD
TZOFFSETFROM:+0200
TZOFFSETTO:+0100
TZNAME:CET
DTSTART:20221030T010000
END:STANDARD
BEGIN:DAYLIGHT
TZOFFSETFROM:+0100
TZOFFSETTO:+0200
TZNAME:CEST
DTSTART:20230326T010000
END:DAYLIGHT
BEGIN:STANDARD
TZOFFSETFROM:+0200
TZOFFSETTO:+0100
TZNAME:CET
DTSTART:20231029T010000
END:STANDARD
BEGIN:DAYLIGHT
TZOFFSETFROM:+0100
TZOFFSETTO:+0200
TZNAME:CEST
DTSTART:20240331T010000
END:DAYLIGHT
BEGIN:STANDARD
TZOFFSETFROM:+0200
TZOFFSETTO:+0100
TZNAME:CET
DTSTART:20241027T010000
END:STANDARD
END:VTIMEZONE
BEGIN:VEVENT
DTSTART;TZID=Europe/Paris:20230718T140000
DTEND;TZID=Europe/Paris:20230718T180000
DTSTAMP:20260423T101606
CREATED:20230614T085223Z
LAST-MODIFIED:20230614T085455Z
UID:4964-1689688800-1689703200@www.mairie-cessy.fr
SUMMARY:La France en courant fera étape à Cessy !
DESCRIPTION:La 34e édition de la France en courant fera étape en ville\, le mardi 18 juillet 2023.  \nLes coureurs arriveront en fin d’après-midi\, place du Vidolet et repartiront mercredi à 03h00. Cette épreuve en relais\, longue de 2 700 km démarrera à Luxeuil-les-Bains samedi 15 juillet et se terminera à Bernay\, samedi 29 juillet.  \nÀ cette occasion\, un village d’arrivée sera implanté Place du Vidolet de 14h à 18h avec des animations :  exposants/artisans (initiation aux métiers manuels\, démonstration de pain\, tourneur sur bois\, sculpture sur bois\, etc)\, structure gonflable avec Pipo le clown.  
URL:https://www.mairie-cessy.fr/evenement/la-france-en-courant-fera-etape-a-cessy/
LOCATION:Espace du Vidolet\, rue de la Mairie\, Cessy\, Ain\, 01170\, France
CATEGORIES:Associatifs
ATTACH;FMTTYPE=image/jpeg:https://www.mairie-cessy.fr/wp-content/uploads/2023/06/P-1.jpg
END:VEVENT
END:VCALENDAR