BEGIN:VCALENDAR
VERSION:2.0
PRODID:-//Commune de Cessy - ECPv6.15.11//NONSGML v1.0//EN
CALSCALE:GREGORIAN
METHOD:PUBLISH
X-WR-CALNAME:Commune de Cessy
X-ORIGINAL-URL:https://www.mairie-cessy.fr
X-WR-CALDESC:Évènements pour Commune de Cessy
REFRESH-INTERVAL;VALUE=DURATION:PT1H
X-Robots-Tag:noindex
X-PUBLISHED-TTL:PT1H
BEGIN:VTIMEZONE
TZID:Europe/Paris
BEGIN:DAYLIGHT
TZOFFSETFROM:+0100
TZOFFSETTO:+0200
TZNAME:CEST
DTSTART:20220327T010000
END:DAYLIGHT
BEGIN:STANDARD
TZOFFSETFROM:+0200
TZOFFSETTO:+0100
TZNAME:CET
DTSTART:20221030T010000
END:STANDARD
BEGIN:DAYLIGHT
TZOFFSETFROM:+0100
TZOFFSETTO:+0200
TZNAME:CEST
DTSTART:20230326T010000
END:DAYLIGHT
BEGIN:STANDARD
TZOFFSETFROM:+0200
TZOFFSETTO:+0100
TZNAME:CET
DTSTART:20231029T010000
END:STANDARD
BEGIN:DAYLIGHT
TZOFFSETFROM:+0100
TZOFFSETTO:+0200
TZNAME:CEST
DTSTART:20240331T010000
END:DAYLIGHT
BEGIN:STANDARD
TZOFFSETFROM:+0200
TZOFFSETTO:+0100
TZNAME:CET
DTSTART:20241027T010000
END:STANDARD
END:VTIMEZONE
BEGIN:VEVENT
DTSTART;TZID=Europe/Paris:20231209T203000
DTEND;TZID=Europe/Paris:20231210T170000
DTSTAMP:20260423T032907
CREATED:20231113T103821Z
LAST-MODIFIED:20231113T103821Z
UID:6264-1702153800-1702227600@www.mairie-cessy.fr
SUMMARY:Lotos des vétérans du football club
DESCRIPTION:Les deux lotos auront lieu à la salle du Vidolet\, le premier le samedi 9 décembre à 20h30 et le second le dimanche 10 décembre à 15h. Les vétérans espèrent vous y voir nombreux et vous attendent avec de nombreux lots  !
URL:https://www.mairie-cessy.fr/evenement/lotos-des-veterans-du-football-club/
LOCATION:Espace du Vidolet\, rue de la Mairie\, Cessy\, Ain\, 01170\, France
CATEGORIES:Associatifs
ATTACH;FMTTYPE=image/png:https://www.mairie-cessy.fr/wp-content/uploads/2023/11/loto.png
END:VEVENT
END:VCALENDAR