BEGIN:VCALENDAR
VERSION:2.0
PRODID:-//Commune de Cessy - ECPv6.15.11//NONSGML v1.0//EN
CALSCALE:GREGORIAN
METHOD:PUBLISH
X-WR-CALNAME:Commune de Cessy
X-ORIGINAL-URL:https://www.mairie-cessy.fr
X-WR-CALDESC:Évènements pour Commune de Cessy
REFRESH-INTERVAL;VALUE=DURATION:PT1H
X-Robots-Tag:noindex
X-PUBLISHED-TTL:PT1H
BEGIN:VTIMEZONE
TZID:Europe/Paris
BEGIN:DAYLIGHT
TZOFFSETFROM:+0100
TZOFFSETTO:+0200
TZNAME:CEST
DTSTART:20240331T010000
END:DAYLIGHT
BEGIN:STANDARD
TZOFFSETFROM:+0200
TZOFFSETTO:+0100
TZNAME:CET
DTSTART:20241027T010000
END:STANDARD
BEGIN:DAYLIGHT
TZOFFSETFROM:+0100
TZOFFSETTO:+0200
TZNAME:CEST
DTSTART:20250330T010000
END:DAYLIGHT
BEGIN:STANDARD
TZOFFSETFROM:+0200
TZOFFSETTO:+0100
TZNAME:CET
DTSTART:20251026T010000
END:STANDARD
BEGIN:DAYLIGHT
TZOFFSETFROM:+0100
TZOFFSETTO:+0200
TZNAME:CEST
DTSTART:20260329T010000
END:DAYLIGHT
BEGIN:STANDARD
TZOFFSETFROM:+0200
TZOFFSETTO:+0100
TZNAME:CET
DTSTART:20261025T010000
END:STANDARD
END:VTIMEZONE
BEGIN:VEVENT
DTSTART;TZID=Europe/Paris:20250409T080000
DTEND;TZID=Europe/Paris:20250423T170000
DTSTAMP:20260422T041520
CREATED:20250331T080239Z
LAST-MODIFIED:20250331T080507Z
UID:9944-1744185600-1745427600@www.mairie-cessy.fr
SUMMARY:Jobs & alternances en tournée
DESCRIPTION:
URL:https://www.mairie-cessy.fr/evenement/jobs-alternances-en-tournee/
LOCATION:Ain
CATEGORIES:Associatifs,Enfance/jeunesse,Permanence
ATTACH;FMTTYPE=image/png:https://www.mairie-cessy.fr/wp-content/uploads/2025/03/JOBS-ALTERANCES.png
END:VEVENT
BEGIN:VEVENT
DTSTART;TZID=Europe/Paris:20250413T090000
DTEND;TZID=Europe/Paris:20250413T160000
DTSTAMP:20260422T041520
CREATED:20250318T161521Z
LAST-MODIFIED:20250318T161930Z
UID:9820-1744534800-1744560000@www.mairie-cessy.fr
SUMMARY:Vide-dressing
DESCRIPTION:Cessy Animations organise le dimanche 13 avril son traditionnel vide-dressing de printemps. Au cours de cette journée\, des vêtements d’adultes\, d’adolescents et d’enfants pourront être vendus ainsi que des accessoires de mode (chaussures\, sac à main\, ceinture\, bijoux…) mais en aucun cas des jouets\, articles de puériculture\, livres… \n  \nL’association fournit aux vendeurs : table (1\,80*0\,80m) et emplacement (1\,20 * 0\,50 max\, ces dimensions doivent impérativement être respectées) – 2 tables maximum par vendeur. \n  \nLa vente est assurée par les participants. \n  \nInscription jusqu’au 4 avril : cessyanimations01@gmail.com
URL:https://www.mairie-cessy.fr/evenement/vide-dressing-2/
LOCATION:Salle du Vidolet
CATEGORIES:Associatifs
ATTACH;FMTTYPE=image/jpeg:https://www.mairie-cessy.fr/wp-content/uploads/2025/03/Vide-dressing.jpg
ORGANIZER;CN="Cessy Animations":MAILTO:pat.duranton@free.fr
END:VEVENT
END:VCALENDAR