BEGIN:VCALENDAR
VERSION:2.0
PRODID:-//Commune de Cessy - ECPv6.15.11//NONSGML v1.0//EN
CALSCALE:GREGORIAN
METHOD:PUBLISH
X-WR-CALNAME:Commune de Cessy
X-ORIGINAL-URL:https://www.mairie-cessy.fr
X-WR-CALDESC:Évènements pour Commune de Cessy
REFRESH-INTERVAL;VALUE=DURATION:PT1H
X-Robots-Tag:noindex
X-PUBLISHED-TTL:PT1H
BEGIN:VTIMEZONE
TZID:Europe/Paris
BEGIN:DAYLIGHT
TZOFFSETFROM:+0100
TZOFFSETTO:+0200
TZNAME:CEST
DTSTART:20240331T010000
END:DAYLIGHT
BEGIN:STANDARD
TZOFFSETFROM:+0200
TZOFFSETTO:+0100
TZNAME:CET
DTSTART:20241027T010000
END:STANDARD
BEGIN:DAYLIGHT
TZOFFSETFROM:+0100
TZOFFSETTO:+0200
TZNAME:CEST
DTSTART:20250330T010000
END:DAYLIGHT
BEGIN:STANDARD
TZOFFSETFROM:+0200
TZOFFSETTO:+0100
TZNAME:CET
DTSTART:20251026T010000
END:STANDARD
BEGIN:DAYLIGHT
TZOFFSETFROM:+0100
TZOFFSETTO:+0200
TZNAME:CEST
DTSTART:20260329T010000
END:DAYLIGHT
BEGIN:STANDARD
TZOFFSETFROM:+0200
TZOFFSETTO:+0100
TZNAME:CET
DTSTART:20261025T010000
END:STANDARD
END:VTIMEZONE
BEGIN:VEVENT
DTSTART;TZID=Europe/Paris:20250714T180000
DTEND;TZID=Europe/Paris:20250715T010000
DTSTAMP:20260421T235922
CREATED:20240606T133934Z
LAST-MODIFIED:20250530T120035Z
UID:8005-1752516000-1752541200@www.mairie-cessy.fr
SUMMARY:Bal des pompiers
DESCRIPTION:À l’occasion de la fête nationale\, les sapeurs-pompiers de Cessy organisent le traditionnel bal des pompiers à partir de 18h\, avec la présence de DJ Belgy.   \nTables\, food truck et buvette seront mis à disposition pour vous accueillir\, en famille ou entre amis.   \nLe soir\, à 22h30\, rendez-vous aux abords de la salle du Vidolet pour admirer l’incontournable feu d’artifice qui fera pétiller le ciel cessien. Venez nombreux pour partager ce moment festif !  \nFood trucks
URL:https://www.mairie-cessy.fr/evenement/un-14-juillet-petillant-2/
LOCATION:Espace du Vidolet\, rue de la Mairie\, Cessy\, Ain\, 01170\, France
CATEGORIES:Associatifs
ATTACH;FMTTYPE=image/jpeg:https://www.mairie-cessy.fr/wp-content/uploads/2024/06/Affiche_14-juillet-2025-scaled.jpg
END:VEVENT
END:VCALENDAR