BEGIN:VCALENDAR
VERSION:2.0
PRODID:-//Commune de Cessy - ECPv6.15.11//NONSGML v1.0//EN
CALSCALE:GREGORIAN
METHOD:PUBLISH
X-WR-CALNAME:Commune de Cessy
X-ORIGINAL-URL:https://www.mairie-cessy.fr
X-WR-CALDESC:Évènements pour Commune de Cessy
REFRESH-INTERVAL;VALUE=DURATION:PT1H
X-Robots-Tag:noindex
X-PUBLISHED-TTL:PT1H
BEGIN:VTIMEZONE
TZID:Europe/Paris
BEGIN:DAYLIGHT
TZOFFSETFROM:+0100
TZOFFSETTO:+0200
TZNAME:CEST
DTSTART:20230326T010000
END:DAYLIGHT
BEGIN:STANDARD
TZOFFSETFROM:+0200
TZOFFSETTO:+0100
TZNAME:CET
DTSTART:20231029T010000
END:STANDARD
BEGIN:DAYLIGHT
TZOFFSETFROM:+0100
TZOFFSETTO:+0200
TZNAME:CEST
DTSTART:20240331T010000
END:DAYLIGHT
BEGIN:STANDARD
TZOFFSETFROM:+0200
TZOFFSETTO:+0100
TZNAME:CET
DTSTART:20241027T010000
END:STANDARD
BEGIN:DAYLIGHT
TZOFFSETFROM:+0100
TZOFFSETTO:+0200
TZNAME:CEST
DTSTART:20250330T010000
END:DAYLIGHT
BEGIN:STANDARD
TZOFFSETFROM:+0200
TZOFFSETTO:+0100
TZNAME:CET
DTSTART:20251026T010000
END:STANDARD
END:VTIMEZONE
BEGIN:VEVENT
DTSTART;TZID=Europe/Paris:20240622T170000
DTEND;TZID=Europe/Paris:20240622T173000
DTSTAMP:20260422T030219
CREATED:20240606T141707Z
LAST-MODIFIED:20240621T145111Z
UID:8008-1719075600-1719077400@www.mairie-cessy.fr
SUMMARY:Conte Musical - COMPLET
DESCRIPTION:Dans le cadre de la fête de la Musique\, la ville de Cessy vous propose un conte musical « LouPapaPoul »\, le samedi 22 juin à 17h à l’Espace Jura. \n\n\n\n\nL’histoire \n« Quand les poules auront des dents est-ce que les loups feront cot-cot-cot ? » \nFilou est le fils du grand méchant loup. Il nous raconte la vie ordinaire de son papa qui rêverait de changer de rôle pour tenir celui du gentil dans le cœur des enfants. \n« C’est la crise de la quarantaine !» dit la mère de Filou. \nCoup de blues\, bilan de compétences\, relooking\, grand concours « la peur » pour lui trouver un remplaçant … tout y passe avant que son père découvre auprès de son fils le rôle de sa vie; celui d’un grand méchant loup papa poule ! \nÀ partir de 3 ans\, 35 min \nGratuit\, sur inscription \n \n\n\n\n  \n 
URL:https://www.mairie-cessy.fr/evenement/conte-musical/
LOCATION:Espace Jura\, 215 rue Joseph Léger\, Cessy\, 01170
CATEGORIES:Enfance/jeunesse
ATTACH;FMTTYPE=image/jpeg:https://www.mairie-cessy.fr/wp-content/uploads/2024/06/LouPapaPouL-Credit-Padydan.jpg
ORGANIZER;CN="Mairie":MAILTO:mairie-cessy@mairie-cessy.fr
END:VEVENT
END:VCALENDAR