BEGIN:VCALENDAR
VERSION:2.0
PRODID:-//Commune de Cessy - ECPv6.15.11//NONSGML v1.0//EN
CALSCALE:GREGORIAN
METHOD:PUBLISH
X-WR-CALNAME:Commune de Cessy
X-ORIGINAL-URL:https://www.mairie-cessy.fr
X-WR-CALDESC:Évènements pour Commune de Cessy
REFRESH-INTERVAL;VALUE=DURATION:PT1H
X-Robots-Tag:noindex
X-PUBLISHED-TTL:PT1H
BEGIN:VTIMEZONE
TZID:Europe/Paris
BEGIN:DAYLIGHT
TZOFFSETFROM:+0100
TZOFFSETTO:+0200
TZNAME:CEST
DTSTART:20240331T010000
END:DAYLIGHT
BEGIN:STANDARD
TZOFFSETFROM:+0200
TZOFFSETTO:+0100
TZNAME:CET
DTSTART:20241027T010000
END:STANDARD
BEGIN:DAYLIGHT
TZOFFSETFROM:+0100
TZOFFSETTO:+0200
TZNAME:CEST
DTSTART:20250330T010000
END:DAYLIGHT
BEGIN:STANDARD
TZOFFSETFROM:+0200
TZOFFSETTO:+0100
TZNAME:CET
DTSTART:20251026T010000
END:STANDARD
BEGIN:DAYLIGHT
TZOFFSETFROM:+0100
TZOFFSETTO:+0200
TZNAME:CEST
DTSTART:20260329T010000
END:DAYLIGHT
BEGIN:STANDARD
TZOFFSETFROM:+0200
TZOFFSETTO:+0100
TZNAME:CET
DTSTART:20261025T010000
END:STANDARD
END:VTIMEZONE
BEGIN:VEVENT
DTSTART;TZID=Europe/Paris:20250507T173000
DTEND;TZID=Europe/Paris:20250507T183000
DTSTAMP:20260421T103418
CREATED:20250401T094848Z
LAST-MODIFIED:20250401T094848Z
UID:10006-1746639000-1746642600@www.mairie-cessy.fr
SUMMARY:La biblio (ré)créative
DESCRIPTION:POUR LES 7/10 ans \nMercredi 7 mai à la bibliothèque à 17h30\nAtelier Carpes Koï \nAu Japon\, pour fêter les enfants\, on leur souhaite une force… de poisson !\nUne légende raconte comment les carpes remontent le courant puis s’envolent pour se transformer en dragons.\nRendez-vous à la bibliothèque pour faire voler vos poissons et décoller vos rêves ! Les adultes ne peuvent pas les accompagner ou participer à cet atelier. \nComment s’inscrire ? \nLes inscriptions sont gratuites et ouvertes trois semaines avant l’animation !\n04 50 41 13 08 – bibliotheque@mairie-cessy.fr – www.bibliotheque-cessy.fr\nBibliothèque : lundi/mercredi 15h/17h – mardi 16h30/18h30 – samedi 10h/12h
URL:https://www.mairie-cessy.fr/evenement/la-biblio-recreative-2/
LOCATION:bibliotheque de cessy\, 450 Rue de la Mairie\, CESSY\, 01170
CATEGORIES:Enfance/jeunesse
ATTACH;FMTTYPE=image/jpeg:https://www.mairie-cessy.fr/wp-content/uploads/2025/04/Fond-carre_RS-atelier-recreatif-copie.jpg
ORGANIZER;CN="Mairie":MAILTO:mairie-cessy@mairie-cessy.fr
END:VEVENT
BEGIN:VEVENT
DTSTART;TZID=Europe/Paris:20250518T100000
DTEND;TZID=Europe/Paris:20250518T180000
DTSTAMP:20260421T103418
CREATED:20250331T133010Z
LAST-MODIFIED:20250331T133010Z
UID:9962-1747562400-1747591200@www.mairie-cessy.fr
SUMMARY:Festy’Jeux : embarquez pour la quatrième édition !
DESCRIPTION:Dimanche 18 mai – 10h/18h – Salle du Vidolet \nVenez célébrer la quatrième édition de Festy’Jeux\, un événement ludique créé et animé en partenariat avec la ludothèque du Centre Socioculturel « Les Libellules » de Gex. Entrée est libre. \nExplorez divers espaces de jeux\, organisés par thème ou par type\, adaptés à tous les publics. En accès libre\, les enfants devront rester sous la surveillance des parents. \nCette année\, de nombreuses animations et des nouveautés raviront petits et grands !  \nNe manquez pas notre nouvel espace gaming proposé par l’Escale Jeunes où vous pourrez tester des casques de réalité virtuelle et plonger dans des jeux allant du rétro au moderne. De plus\, laissez libre cours à votre créativité en créant votre propre jeu de société ! \n\n			\n				\n			\n				\n				OLYMPUS DIGITAL CAMERA\n				\n			\n				\n			\n				\n				OLYMPUS DIGITAL CAMERA\n				\n			\n				\n			\n				\n				OLYMPUS DIGITAL CAMERA\n				\n			\n				\n			\n				\n				OLYMPUS DIGITAL CAMERA\n				\n			\n				\n			\n				\n				OLYMPUS DIGITAL CAMERA\n				\n			\n				\n			\n				\n				OLYMPUS DIGITAL CAMERA\n				\n			\n				\n			\n				\n				OLYMPUS DIGITAL CAMERA\n				\n			\n				\n			\n				\n				OLYMPUS DIGITAL CAMERA\n				\n			\n				\n			\n				\n				OLYMPUS DIGITAL CAMERA\n				\n			\n				\n			\n				\n				OLYMPUS DIGITAL CAMERA\n				\n			\n				\n			\n				\n				OLYMPUS DIGITAL CAMERA\n				\n			\n				\n			\n				\n				OLYMPUS DIGITAL CAMERA\n				\n			\n				\n			\n				\n				OLYMPUS DIGITAL CAMERA\n				\n			\n				\n			\n				\n				OLYMPUS DIGITAL CAMERA
URL:https://www.mairie-cessy.fr/evenement/festyjeux-embarquez-pour-la-quatrieme-edition/
LOCATION:Espace du Vidolet\, rue de la Mairie\, Cessy\, Ain\, 01170\, France
CATEGORIES:Enfance/jeunesse,Famille
ATTACH;FMTTYPE=image/jpeg:https://www.mairie-cessy.fr/wp-content/uploads/2025/03/240505-FestyJeux-74-scaled.jpg
ORGANIZER;CN="Centre Socioculturel Les Libellules":MAILTO:secretariat@cscleslibellules.fr
END:VEVENT
BEGIN:VEVENT
DTSTART;TZID=Europe/Paris:20250518T173000
DTEND;TZID=Europe/Paris:20250518T183000
DTSTAMP:20260421T103418
CREATED:20250331T133333Z
LAST-MODIFIED:20250331T133333Z
UID:9969-1747589400-1747593000@www.mairie-cessy.fr
SUMMARY:FESTIVAL TÔT OU T'ARTS
DESCRIPTION:Après le succès de l’an dernier le festival des arts de la rue revient à Cessy ! \nLES PONDARMES \nCie Un de ces 4 \nCirque musical et burlesque  \nGratuit – Tout public dès 5 ans – 50 min \nEt si les pompiers et les gendarmes ne devenait plus q’un ?! \nFace aux contraintes budgétaires et à la pénurie de personnel\, le ministère de l’Intérieur a décidé d’innover en créant une brigade expérimentale issue de la fusion entre deux institutions emblématiques  : les pompiers et les gendarmes. Moitié pompiers\, moitié gendarmes\, ils s’appelleront : LES PONDARMES !! \nDans un univers où l’humour et l’acrobatie se rencontrent\,  » Les Pondarmes  » vous plongent dans une aventure burlesque captivante. Entre rires et émerveillement\, ils nous rappellent que même dans les situations les plus improbables\, l’esprit d’équipe et la créativité peuvent transformer les défis en un véritable spectacle inoubliable.
URL:https://www.mairie-cessy.fr/evenement/festival-tot-ou-tarts-2/
LOCATION:Espace du Vidolet\, rue de la Mairie\, Cessy\, Ain\, 01170\, France
CATEGORIES:culturel,Enfance/jeunesse,Famille
ATTACH;FMTTYPE=image/jpeg:https://www.mairie-cessy.fr/wp-content/uploads/2025/03/Le-Grand-Saut-065-©2023_-Gilles-Piel-copie-2.jpg
ORGANIZER;CN="Centre Socioculturel Les Libellules":MAILTO:secretariat@cscleslibellules.fr
END:VEVENT
END:VCALENDAR