BEGIN:VCALENDAR
VERSION:2.0
PRODID:-//Commune de Cessy - ECPv6.15.11//NONSGML v1.0//EN
CALSCALE:GREGORIAN
METHOD:PUBLISH
X-WR-CALNAME:Commune de Cessy
X-ORIGINAL-URL:https://www.mairie-cessy.fr
X-WR-CALDESC:Évènements pour Commune de Cessy
REFRESH-INTERVAL;VALUE=DURATION:PT1H
X-Robots-Tag:noindex
X-PUBLISHED-TTL:PT1H
BEGIN:VTIMEZONE
TZID:Europe/Paris
BEGIN:DAYLIGHT
TZOFFSETFROM:+0100
TZOFFSETTO:+0200
TZNAME:CEST
DTSTART:20220327T010000
END:DAYLIGHT
BEGIN:STANDARD
TZOFFSETFROM:+0200
TZOFFSETTO:+0100
TZNAME:CET
DTSTART:20221030T010000
END:STANDARD
BEGIN:DAYLIGHT
TZOFFSETFROM:+0100
TZOFFSETTO:+0200
TZNAME:CEST
DTSTART:20230326T010000
END:DAYLIGHT
BEGIN:STANDARD
TZOFFSETFROM:+0200
TZOFFSETTO:+0100
TZNAME:CET
DTSTART:20231029T010000
END:STANDARD
BEGIN:DAYLIGHT
TZOFFSETFROM:+0100
TZOFFSETTO:+0200
TZNAME:CEST
DTSTART:20240331T010000
END:DAYLIGHT
BEGIN:STANDARD
TZOFFSETFROM:+0200
TZOFFSETTO:+0100
TZNAME:CET
DTSTART:20241027T010000
END:STANDARD
END:VTIMEZONE
BEGIN:VEVENT
DTSTART;TZID=Europe/Paris:20231202T140000
DTEND;TZID=Europe/Paris:20231202T203000
DTSTAMP:20260422T131653
CREATED:20231113T104655Z
LAST-MODIFIED:20231113T104655Z
UID:6270-1701525600-1701549000@www.mairie-cessy.fr
SUMMARY:Les illuminations de Noël
DESCRIPTION:Cet événement incontournable se tiendra le samedi 2 décembre 2023. \n> Plusieurs nouveautés sont au programme avec notamment des jeux en bois sur le thème des recettes et des sortilèges de 14h00 à 18h00 dans la salle Montchanais :  il était une fois un univers enchanté où les enfants sont invités à rompre le charme le temps du jeu. Ils préparent des potions magiques\, cuisinent les festins des contes dans de grands chaudrons\, etc. \n> La place de la mairie va accueillir un grand chapiteau où se dérouleront les divers ateliers créatifs. De 15h00 à 18h30\, les animateurs de la Cabane proposeront des ateliers créatifs pour les enfants dès trois ans. Accompagnés de leurs parents\, ils pourront déposer leur lettre au père Noël\, préparer une carte\, tout en s’adonnant à la confection d’un badge de Noël et à la fabrication d’un lampion. \n> En parallèle\, les bénévoles de l’association Lire et Faire Lire feront voyager les enfants à travers des contes de 15h00 à 17h00. \n> C’est la traditionnelle photo qu’attendent tous nos bambins : celle avec le Père Noël ! \nRendez-vous avec l’Escale Jeunes de 15h30 à 16h30 et de 17h30 à 19h pour immortaliser cet instant magique. \n> À 19h00\, le Père Noël prendra la tête du défilé de lampions confectionnés durant l’après-midi\, qui mènera les participants vers les abords de la salle du Vidolet. Enfin\, le maire lancera les illuminations et donnera le top départ pour le feu d’artifice. \nVin chaud offert par la municipalité et vente de marrons grillés. \nDurant tout le week-end\, la salle du Vidolet abritera le traditionnel marché de Noël\, organisé par Cessy Animations. \n 
URL:https://www.mairie-cessy.fr/evenement/les-illuminations-de-noel/
LOCATION:Salle Montchanais\, rue de la Mairie\, Cessy\, Ain\, 01170\, France
CATEGORIES:Enfance/jeunesse
ATTACH;FMTTYPE=image/jpeg:https://www.mairie-cessy.fr/wp-content/uploads/2023/11/Affiche_Illuminations-2023_2-copie-scaled.jpg
ORGANIZER;CN="Mairie":MAILTO:mairie-cessy@mairie-cessy.fr
END:VEVENT
END:VCALENDAR