BEGIN:VCALENDAR
VERSION:2.0
PRODID:-//Commune de Cessy - ECPv6.15.11//NONSGML v1.0//EN
CALSCALE:GREGORIAN
METHOD:PUBLISH
X-WR-CALNAME:Commune de Cessy
X-ORIGINAL-URL:https://www.mairie-cessy.fr
X-WR-CALDESC:Évènements pour Commune de Cessy
REFRESH-INTERVAL;VALUE=DURATION:PT1H
X-Robots-Tag:noindex
X-PUBLISHED-TTL:PT1H
BEGIN:VTIMEZONE
TZID:Europe/Paris
BEGIN:DAYLIGHT
TZOFFSETFROM:+0100
TZOFFSETTO:+0200
TZNAME:CEST
DTSTART:20230326T010000
END:DAYLIGHT
BEGIN:STANDARD
TZOFFSETFROM:+0200
TZOFFSETTO:+0100
TZNAME:CET
DTSTART:20231029T010000
END:STANDARD
BEGIN:DAYLIGHT
TZOFFSETFROM:+0100
TZOFFSETTO:+0200
TZNAME:CEST
DTSTART:20240331T010000
END:DAYLIGHT
BEGIN:STANDARD
TZOFFSETFROM:+0200
TZOFFSETTO:+0100
TZNAME:CET
DTSTART:20241027T010000
END:STANDARD
BEGIN:DAYLIGHT
TZOFFSETFROM:+0100
TZOFFSETTO:+0200
TZNAME:CEST
DTSTART:20250330T010000
END:DAYLIGHT
BEGIN:STANDARD
TZOFFSETFROM:+0200
TZOFFSETTO:+0100
TZNAME:CET
DTSTART:20251026T010000
END:STANDARD
END:VTIMEZONE
BEGIN:VEVENT
DTSTART;TZID=Europe/Paris:20240407T100000
DTEND;TZID=Europe/Paris:20240407T120000
DTSTAMP:20260422T072831
CREATED:20240109T085044Z
LAST-MODIFIED:20240315T131208Z
UID:6645-1712484000-1712491200@www.mairie-cessy.fr
SUMMARY:Chasse aux œufs du Sou des écoles de Cessy
DESCRIPTION:La traditionnelle chasse aux œufs du Sou des écoles de Cessy se tiendra le dimanche 7 avril 2024 à 10h  à l’étang de Cessy. \nOuverture des caisses et de la buvette à 9h30. \nOuverture des parcours à 10h jusqu’à épuisement des stocks et au maximum jusqu’à 12h0. Participation 3€ \n 
URL:https://www.mairie-cessy.fr/evenement/chasse-aux-oeufs-du-sou-des-ecoles-de-cessy/
LOCATION:Etang de Cessy
CATEGORIES:Associatifs,Enfance/jeunesse
ATTACH;FMTTYPE=image/jpeg:https://www.mairie-cessy.fr/wp-content/uploads/2024/01/Chasse-aus-oeufs-cessy.jpg
ORGANIZER;CN="Sou des Ecoles de Cessy":MAILTO:soudesecolesdecessy@gmail.com
END:VEVENT
END:VCALENDAR