BEGIN:VCALENDAR
VERSION:2.0
PRODID:-//Commune de Cessy - ECPv6.15.11//NONSGML v1.0//EN
CALSCALE:GREGORIAN
METHOD:PUBLISH
X-WR-CALNAME:Commune de Cessy
X-ORIGINAL-URL:https://www.mairie-cessy.fr
X-WR-CALDESC:Évènements pour Commune de Cessy
REFRESH-INTERVAL;VALUE=DURATION:PT1H
X-Robots-Tag:noindex
X-PUBLISHED-TTL:PT1H
BEGIN:VTIMEZONE
TZID:Europe/Paris
BEGIN:DAYLIGHT
TZOFFSETFROM:+0100
TZOFFSETTO:+0200
TZNAME:CEST
DTSTART:20230326T010000
END:DAYLIGHT
BEGIN:STANDARD
TZOFFSETFROM:+0200
TZOFFSETTO:+0100
TZNAME:CET
DTSTART:20231029T010000
END:STANDARD
BEGIN:DAYLIGHT
TZOFFSETFROM:+0100
TZOFFSETTO:+0200
TZNAME:CEST
DTSTART:20240331T010000
END:DAYLIGHT
BEGIN:STANDARD
TZOFFSETFROM:+0200
TZOFFSETTO:+0100
TZNAME:CET
DTSTART:20241027T010000
END:STANDARD
BEGIN:DAYLIGHT
TZOFFSETFROM:+0100
TZOFFSETTO:+0200
TZNAME:CEST
DTSTART:20250330T010000
END:DAYLIGHT
BEGIN:STANDARD
TZOFFSETFROM:+0200
TZOFFSETTO:+0100
TZNAME:CET
DTSTART:20251026T010000
END:STANDARD
END:VTIMEZONE
BEGIN:VEVENT
DTSTART;TZID=Europe/Paris:20240522T133000
DTEND;TZID=Europe/Paris:20240524T200000
DTSTAMP:20260422T060301
CREATED:20240326T112216Z
LAST-MODIFIED:20240326T112216Z
UID:7379-1716384600-1716580800@www.mairie-cessy.fr
SUMMARY:Escape Game - Tous contre Cornebidouille
DESCRIPTION:2 dates : Mercredi 22 mai à 13h30 – Vendredi 24 mai à 18h \nVenez affronter la terrible sorcière Cornebidouille lors d’une partie d’escape game organisé par la bibliothèque de Cessy. \nCornebidouille en a assez de Pierre et de tous les enfants qui ne veulent pas manger leur soupe ! Elle est vraiment furieuse et a décidé de les ratatouiller…Il va falloir\, comme Pierre\, être plus malins qu’elle : résoudre plusieurs énigmes et trouver sa formule magique pour la retourner contre elle. \nDurée : 1h \nDe 6 à 11 ans – Gratuit\, sur inscription auprès de la bibliothèque : 04 50 41 13 08 – bibliotheque@mairie-cessy.fr \nD’après les livres de Magali Bonniol et Pierre Bertrand – Un jeu proposé par l’École des Loisirs
URL:https://www.mairie-cessy.fr/evenement/escape-game-tous-contre-cornebidouille/
LOCATION:bibliotheque de cessy\, 450 Rue de la Mairie\, CESSY\, 01170
CATEGORIES:Enfance/jeunesse
ATTACH;FMTTYPE=image/png:https://www.mairie-cessy.fr/wp-content/uploads/2024/03/CORNEBIDOUILLE-BOITE33.png
END:VEVENT
END:VCALENDAR