BEGIN:VCALENDAR
VERSION:2.0
PRODID:-//Commune de Cessy - ECPv6.15.11//NONSGML v1.0//EN
CALSCALE:GREGORIAN
METHOD:PUBLISH
X-WR-CALNAME:Commune de Cessy
X-ORIGINAL-URL:https://www.mairie-cessy.fr
X-WR-CALDESC:Évènements pour Commune de Cessy
REFRESH-INTERVAL;VALUE=DURATION:PT1H
X-Robots-Tag:noindex
X-PUBLISHED-TTL:PT1H
BEGIN:VTIMEZONE
TZID:Europe/Paris
BEGIN:DAYLIGHT
TZOFFSETFROM:+0100
TZOFFSETTO:+0200
TZNAME:CEST
DTSTART:20240331T010000
END:DAYLIGHT
BEGIN:STANDARD
TZOFFSETFROM:+0200
TZOFFSETTO:+0100
TZNAME:CET
DTSTART:20241027T010000
END:STANDARD
BEGIN:DAYLIGHT
TZOFFSETFROM:+0100
TZOFFSETTO:+0200
TZNAME:CEST
DTSTART:20250330T010000
END:DAYLIGHT
BEGIN:STANDARD
TZOFFSETFROM:+0200
TZOFFSETTO:+0100
TZNAME:CET
DTSTART:20251026T010000
END:STANDARD
BEGIN:DAYLIGHT
TZOFFSETFROM:+0100
TZOFFSETTO:+0200
TZNAME:CEST
DTSTART:20260329T010000
END:DAYLIGHT
BEGIN:STANDARD
TZOFFSETFROM:+0200
TZOFFSETTO:+0100
TZNAME:CET
DTSTART:20261025T010000
END:STANDARD
END:VTIMEZONE
BEGIN:VEVENT
DTSTART;TZID=Europe/Paris:20250208T101500
DTEND;TZID=Europe/Paris:20250208T101500
DTSTAMP:20260421T163547
CREATED:20241220T135301Z
LAST-MODIFIED:20250116T100059Z
UID:9297-1739009700-1739009700@www.mairie-cessy.fr
SUMMARY:P'tit dej spectacle - Jeune public
DESCRIPTION:Pour les tout-petits mais aussi pour les enfants plus grands\, vivez en famille de nouvelles aventures spectaculaires ponctuées d’émotions\, d’imaginaire\, de belles sonorités et d’images colorées ! \nLe centre socioculturel Les Libellules de Gex\, en partenariat avec la ville\, vous propose des rendez-vous culturels à partager en famille autour d’un spectacle suivi d’un p’tit déjeuner ou d’un goûter… \nMarionnettes très musicales \nLE GRAND SHOW DES PETITES CHOSES \nSAMEDI 8 FÉVRIER À 10H15 ET 16H \nCIE LES FRÈRES DUCHOC – De 3 à 11 ans – 40 mn \nAvez-vous déjà vu des robinets patineurs professionnels\, des cuillères en argent amoureuse\, une passoire serveuse\, un mètre en bois joueur de foot … ? \nEn détournant les objets du quotidien avec humour et poésie\, les Frères Duchoc abordent des thèmes comme l’abandon des animaux ou l’acceptation de la différence mais aussi des thèmes plus légers comme le patinage artistique ou la difficulté d’être superman. \nTantôt drôles\, tantôt émouvants\, les deux artistes inclassables nous offrent un spectacle de théâtre d’objets rempli de poésie\, de surprises et de belles choses à regarder. \nTARIFS : ADULTES 8€/6€* – DE 18 ANS 6€/4€*  \nBilletterie disponible en ligne pour chaque spectacle \nPour garantir votre bon accueil\, il est indispensable de réserver vos places auprès du CSC 04 50 28 34 17 – secretariat@cscleslibellules.fr \n* adhérent CSC
URL:https://www.mairie-cessy.fr/evenement/ptit-dej-spectacle-jeune-public/
LOCATION:Salle du Vidolet
CATEGORIES:Enfance/jeunesse
ATTACH;FMTTYPE=image/jpeg:https://www.mairie-cessy.fr/wp-content/uploads/2024/12/Photo-CQ0A4699.jpg
ORGANIZER;CN="Centre Socioculturel Les Libellules":MAILTO:secretariat@cscleslibellules.fr
END:VEVENT
END:VCALENDAR