BEGIN:VCALENDAR
VERSION:2.0
PRODID:-//Commune de Cessy - ECPv6.15.11//NONSGML v1.0//EN
CALSCALE:GREGORIAN
METHOD:PUBLISH
X-ORIGINAL-URL:https://www.mairie-cessy.fr
X-WR-CALDESC:Évènements pour Commune de Cessy
REFRESH-INTERVAL;VALUE=DURATION:PT1H
X-Robots-Tag:noindex
X-PUBLISHED-TTL:PT1H
BEGIN:VTIMEZONE
TZID:Europe/Paris
BEGIN:DAYLIGHT
TZOFFSETFROM:+0100
TZOFFSETTO:+0200
TZNAME:CEST
DTSTART:20240331T010000
END:DAYLIGHT
BEGIN:STANDARD
TZOFFSETFROM:+0200
TZOFFSETTO:+0100
TZNAME:CET
DTSTART:20241027T010000
END:STANDARD
BEGIN:DAYLIGHT
TZOFFSETFROM:+0100
TZOFFSETTO:+0200
TZNAME:CEST
DTSTART:20250330T010000
END:DAYLIGHT
BEGIN:STANDARD
TZOFFSETFROM:+0200
TZOFFSETTO:+0100
TZNAME:CET
DTSTART:20251026T010000
END:STANDARD
BEGIN:DAYLIGHT
TZOFFSETFROM:+0100
TZOFFSETTO:+0200
TZNAME:CEST
DTSTART:20260329T010000
END:DAYLIGHT
BEGIN:STANDARD
TZOFFSETFROM:+0200
TZOFFSETTO:+0100
TZNAME:CET
DTSTART:20261025T010000
END:STANDARD
END:VTIMEZONE
BEGIN:VEVENT
DTSTART;TZID=Europe/Paris:20250319T140000
DTEND;TZID=Europe/Paris:20250319T180000
DTSTAMP:20260421T151042
CREATED:20250227T090457Z
LAST-MODIFIED:20250227T090457Z
UID:9728-1742392800-1742407200@www.mairie-cessy.fr
SUMMARY:La biblio (ré)créative
DESCRIPTION:La bibliothèque lance une nouvelle animation : la biblio (ré)créative \nUne nouvelle aventure chaque trimestre \nLa biblio (ré)créative offre une série d’ateliers thématiques\, adaptés à différentes tranches d’âge. Chaque trimestre\, la bibliothèque accueillera les enfants pour vivre une expérience unique autour d’un thème spécifique. \nPremière séance :  \nLa première séance de la biblio (ré)créative se tiendra le mercredi 19 mars et s’adresse aux enfants âgés de 3 à 5 ans. Les activités dureront 30 minutes et se dérouleront sur deux créneaux : 14h15 et 17h15. \nLes places sont limitées. L’inscription est gratuite\, mais il est nécessaire de noter que les parents ne pourront pas rester pendant l’atelier\, permettant ainsi aux enfants de s’immerger pleinement dans l’activité. \nComment s’inscrire ? \nLes inscriptions sont ouvertes dès maintenant ! Pour réserver une place pour votre enfant\, veuillez contacter la bibliothèque par mail bibliotheque@mairie-cessy.fr \n𝐁𝐢𝐛𝐥𝐢𝐨𝐭𝐡𝐞̀𝐪𝐮𝐞 : ouverte le lundi et mercredi après-midi de 15h à 17h\, le mardi après-midi de 16h30 à 18h30 et le samedi matin de 10h à 12h.
URL:https://www.mairie-cessy.fr/evenement/la-biblio-recreative/
LOCATION:bibliotheque de cessy\, 450 Rue de la Mairie\, CESSY\, 01170
CATEGORIES:culturel,Enfance/jeunesse
ATTACH;FMTTYPE=image/jpeg:https://www.mairie-cessy.fr/wp-content/uploads/2025/02/Fond-carre_RS-atelier-recreatif.jpg
ORGANIZER;CN="Mairie":MAILTO:mairie-cessy@mairie-cessy.fr
END:VEVENT
END:VCALENDAR