BEGIN:VCALENDAR
VERSION:2.0
PRODID:-//Commune de Cessy - ECPv6.15.11//NONSGML v1.0//EN
CALSCALE:GREGORIAN
METHOD:PUBLISH
X-WR-CALNAME:Commune de Cessy
X-ORIGINAL-URL:https://www.mairie-cessy.fr
X-WR-CALDESC:Évènements pour Commune de Cessy
REFRESH-INTERVAL;VALUE=DURATION:PT1H
X-Robots-Tag:noindex
X-PUBLISHED-TTL:PT1H
BEGIN:VTIMEZONE
TZID:Europe/Paris
BEGIN:DAYLIGHT
TZOFFSETFROM:+0100
TZOFFSETTO:+0200
TZNAME:CEST
DTSTART:20240331T010000
END:DAYLIGHT
BEGIN:STANDARD
TZOFFSETFROM:+0200
TZOFFSETTO:+0100
TZNAME:CET
DTSTART:20241027T010000
END:STANDARD
BEGIN:DAYLIGHT
TZOFFSETFROM:+0100
TZOFFSETTO:+0200
TZNAME:CEST
DTSTART:20250330T010000
END:DAYLIGHT
BEGIN:STANDARD
TZOFFSETFROM:+0200
TZOFFSETTO:+0100
TZNAME:CET
DTSTART:20251026T010000
END:STANDARD
BEGIN:DAYLIGHT
TZOFFSETFROM:+0100
TZOFFSETTO:+0200
TZNAME:CEST
DTSTART:20260329T010000
END:DAYLIGHT
BEGIN:STANDARD
TZOFFSETFROM:+0200
TZOFFSETTO:+0100
TZNAME:CET
DTSTART:20261025T010000
END:STANDARD
END:VTIMEZONE
BEGIN:VEVENT
DTSTART;TZID=Europe/Paris:20250321T193000
DTEND;TZID=Europe/Paris:20250321T233000
DTSTAMP:20260421T150934
CREATED:20240109T083908Z
LAST-MODIFIED:20250224T080606Z
UID:6642-1742585400-1742599800@www.mairie-cessy.fr
SUMMARY:Carnaval du Sou des écoles de Cessy
DESCRIPTION:La soirée du carnaval du Sou des écoles aura lieu le vendredi 21 mars 2025 à la salle du Vidolet  dès 19h30. \nInformations à venir … \n 
URL:https://www.mairie-cessy.fr/evenement/carnaval-du-sou-des-ecoles-de-cessy/
LOCATION:Salle du Vidolet
CATEGORIES:Associatifs,Enfance/jeunesse
ATTACH;FMTTYPE=image/jpeg:https://www.mairie-cessy.fr/wp-content/uploads/2024/01/fond-carnaval-plat_23-2149235027.jpg
ORGANIZER;CN="Sou des Ecoles de Cessy":MAILTO:soudesecolesdecessy@gmail.com
END:VEVENT
END:VCALENDAR