BEGIN:VCALENDAR
VERSION:2.0
PRODID:-//Commune de Cessy - ECPv6.15.11//NONSGML v1.0//EN
CALSCALE:GREGORIAN
METHOD:PUBLISH
X-WR-CALNAME:Commune de Cessy
X-ORIGINAL-URL:https://www.mairie-cessy.fr
X-WR-CALDESC:Évènements pour Commune de Cessy
REFRESH-INTERVAL;VALUE=DURATION:PT1H
X-Robots-Tag:noindex
X-PUBLISHED-TTL:PT1H
BEGIN:VTIMEZONE
TZID:Europe/Paris
BEGIN:DAYLIGHT
TZOFFSETFROM:+0100
TZOFFSETTO:+0200
TZNAME:CEST
DTSTART:20240331T010000
END:DAYLIGHT
BEGIN:STANDARD
TZOFFSETFROM:+0200
TZOFFSETTO:+0100
TZNAME:CET
DTSTART:20241027T010000
END:STANDARD
BEGIN:DAYLIGHT
TZOFFSETFROM:+0100
TZOFFSETTO:+0200
TZNAME:CEST
DTSTART:20250330T010000
END:DAYLIGHT
BEGIN:STANDARD
TZOFFSETFROM:+0200
TZOFFSETTO:+0100
TZNAME:CET
DTSTART:20251026T010000
END:STANDARD
BEGIN:DAYLIGHT
TZOFFSETFROM:+0100
TZOFFSETTO:+0200
TZNAME:CEST
DTSTART:20260329T010000
END:DAYLIGHT
BEGIN:STANDARD
TZOFFSETFROM:+0200
TZOFFSETTO:+0100
TZNAME:CET
DTSTART:20261025T010000
END:STANDARD
END:VTIMEZONE
BEGIN:VEVENT
DTSTART;TZID=Europe/Paris:20250404T173000
DTEND;TZID=Europe/Paris:20250404T190000
DTSTAMP:20260421T134520
CREATED:20250318T162258Z
LAST-MODIFIED:20250318T162258Z
UID:9825-1743787800-1743793200@www.mairie-cessy.fr
SUMMARY:Soirée portes ouvertes du Lycée Professionnel Jeanne d'Arc de Cessy
DESCRIPTION:Soirée portes ouvertes du Lycée Professionnel Jeanne d’Arc de Cessy\, qui se tiendra le vendredi 4 avril\, de 17h30 à 19h00
URL:https://www.mairie-cessy.fr/evenement/soiree-portes-ouvertes-du-lycee-professionnel-jeanne-darc-de-cessy/
LOCATION:Lycée Jeanne d’Arc\, 95 rue du Lycée\, Cessy\, 01170
CATEGORIES:Enfance/jeunesse
END:VEVENT
END:VCALENDAR