BEGIN:VCALENDAR
VERSION:2.0
PRODID:-//Commune de Cessy - ECPv6.15.11//NONSGML v1.0//EN
CALSCALE:GREGORIAN
METHOD:PUBLISH
X-WR-CALNAME:Commune de Cessy
X-ORIGINAL-URL:https://www.mairie-cessy.fr
X-WR-CALDESC:Évènements pour Commune de Cessy
REFRESH-INTERVAL;VALUE=DURATION:PT1H
X-Robots-Tag:noindex
X-PUBLISHED-TTL:PT1H
BEGIN:VTIMEZONE
TZID:Europe/Paris
BEGIN:DAYLIGHT
TZOFFSETFROM:+0100
TZOFFSETTO:+0200
TZNAME:CEST
DTSTART:20230326T010000
END:DAYLIGHT
BEGIN:STANDARD
TZOFFSETFROM:+0200
TZOFFSETTO:+0100
TZNAME:CET
DTSTART:20231029T010000
END:STANDARD
BEGIN:DAYLIGHT
TZOFFSETFROM:+0100
TZOFFSETTO:+0200
TZNAME:CEST
DTSTART:20240331T010000
END:DAYLIGHT
BEGIN:STANDARD
TZOFFSETFROM:+0200
TZOFFSETTO:+0100
TZNAME:CET
DTSTART:20241027T010000
END:STANDARD
BEGIN:DAYLIGHT
TZOFFSETFROM:+0100
TZOFFSETTO:+0200
TZNAME:CEST
DTSTART:20250330T010000
END:DAYLIGHT
BEGIN:STANDARD
TZOFFSETFROM:+0200
TZOFFSETTO:+0100
TZNAME:CET
DTSTART:20251026T010000
END:STANDARD
END:VTIMEZONE
BEGIN:VEVENT
DTSTART;TZID=Europe/Paris:20241027T090000
DTEND;TZID=Europe/Paris:20241027T170000
DTSTAMP:20260420T000555
CREATED:20241008T143641Z
LAST-MODIFIED:20241008T143641Z
UID:8812-1730019600-1730048400@www.mairie-cessy.fr
SUMMARY:13e Salon multicollection
DESCRIPTION:Timbres\, cartes postales\, monnaies et toute sortes objets de collection vous serons proposés lors de cette journée festive dans une salle très claire et bien agencée. Venez nombreux échanger avec les marchands et les collectionneurs présent. Entrée gratuite
URL:https://www.mairie-cessy.fr/evenement/13e-salon-multicollection/
LOCATION:Salle du Vidolet
CATEGORIES:Associatifs,Exposants
ATTACH;FMTTYPE=image/jpeg:https://www.mairie-cessy.fr/wp-content/uploads/2024/10/13e-salon-multicollection.jpg
END:VEVENT
END:VCALENDAR