BEGIN:VCALENDAR
VERSION:2.0
PRODID:-//Commune de Cessy - ECPv6.15.11//NONSGML v1.0//EN
CALSCALE:GREGORIAN
METHOD:PUBLISH
X-ORIGINAL-URL:https://www.mairie-cessy.fr
X-WR-CALDESC:Évènements pour Commune de Cessy
REFRESH-INTERVAL;VALUE=DURATION:PT1H
X-Robots-Tag:noindex
X-PUBLISHED-TTL:PT1H
BEGIN:VTIMEZONE
TZID:Europe/Paris
BEGIN:DAYLIGHT
TZOFFSETFROM:+0100
TZOFFSETTO:+0200
TZNAME:CEST
DTSTART:20240331T010000
END:DAYLIGHT
BEGIN:STANDARD
TZOFFSETFROM:+0200
TZOFFSETTO:+0100
TZNAME:CET
DTSTART:20241027T010000
END:STANDARD
BEGIN:DAYLIGHT
TZOFFSETFROM:+0100
TZOFFSETTO:+0200
TZNAME:CEST
DTSTART:20250330T010000
END:DAYLIGHT
BEGIN:STANDARD
TZOFFSETFROM:+0200
TZOFFSETTO:+0100
TZNAME:CET
DTSTART:20251026T010000
END:STANDARD
BEGIN:DAYLIGHT
TZOFFSETFROM:+0100
TZOFFSETTO:+0200
TZNAME:CEST
DTSTART:20260329T010000
END:DAYLIGHT
BEGIN:STANDARD
TZOFFSETFROM:+0200
TZOFFSETTO:+0100
TZNAME:CET
DTSTART:20261025T010000
END:STANDARD
END:VTIMEZONE
BEGIN:VEVENT
DTSTART;TZID=Europe/Paris:20250110T183000
DTEND;TZID=Europe/Paris:20250110T213000
DTSTAMP:20260421T160821
CREATED:20241219T164652Z
LAST-MODIFIED:20241219T164652Z
UID:9237-1736533800-1736544600@www.mairie-cessy.fr
SUMMARY:Soirée jeux de société pour tous
DESCRIPTION:La bibliothèque de Cessy organise une soirée jeux de société pour pour lancer son nouveau service de prêt de jeux. \nVendredi 10 janvier 2025 – Salle Montchanais  \nImaginez\, un bar à jeu\, des cartes pour choisir son menu. Vous vous installez\, vous choisissez le jeu qui vous correspond et on vous le sert sur un plateau avec une explication pour le lancer. En famille ou entre amis\, c’est une façon originale et conviviale de découvrir de nouveaux jeux et de s’amuser.\nSur inscriptions. Deux créneaux possibles de 18h30 à 20h et de 20h à 21h30. \nbibliotheque@mairie-cessy.fr
URL:https://www.mairie-cessy.fr/evenement/soiree-jeux-de-societe-pour-tous/
LOCATION:Salle Montchanais\, rue de la Mairie\, Cessy\, Ain\, 01170\, France
CATEGORIES:Famille
ATTACH;FMTTYPE=image/png:https://www.mairie-cessy.fr/wp-content/uploads/2024/12/logo-soiree-jeux-copie.png
ORGANIZER;CN="Mairie":MAILTO:mairie-cessy@mairie-cessy.fr
END:VEVENT
END:VCALENDAR