BEGIN:VCALENDAR
VERSION:2.0
PRODID:-//Commune de Cessy - ECPv6.15.11//NONSGML v1.0//EN
CALSCALE:GREGORIAN
METHOD:PUBLISH
X-ORIGINAL-URL:https://www.mairie-cessy.fr
X-WR-CALDESC:Évènements pour Commune de Cessy
REFRESH-INTERVAL;VALUE=DURATION:PT1H
X-Robots-Tag:noindex
X-PUBLISHED-TTL:PT1H
BEGIN:VTIMEZONE
TZID:Europe/Paris
BEGIN:DAYLIGHT
TZOFFSETFROM:+0100
TZOFFSETTO:+0200
TZNAME:CEST
DTSTART:20230326T010000
END:DAYLIGHT
BEGIN:STANDARD
TZOFFSETFROM:+0200
TZOFFSETTO:+0100
TZNAME:CET
DTSTART:20231029T010000
END:STANDARD
BEGIN:DAYLIGHT
TZOFFSETFROM:+0100
TZOFFSETTO:+0200
TZNAME:CEST
DTSTART:20240331T010000
END:DAYLIGHT
BEGIN:STANDARD
TZOFFSETFROM:+0200
TZOFFSETTO:+0100
TZNAME:CET
DTSTART:20241027T010000
END:STANDARD
BEGIN:DAYLIGHT
TZOFFSETFROM:+0100
TZOFFSETTO:+0200
TZNAME:CEST
DTSTART:20250330T010000
END:DAYLIGHT
BEGIN:STANDARD
TZOFFSETFROM:+0200
TZOFFSETTO:+0100
TZNAME:CET
DTSTART:20251026T010000
END:STANDARD
END:VTIMEZONE
BEGIN:VEVENT
DTSTART;TZID=Europe/Paris:20240403T140000
DTEND;TZID=Europe/Paris:20240403T170000
DTSTAMP:20260423T234327
CREATED:20240318T075201Z
LAST-MODIFIED:20240318T075201Z
UID:7263-1712152800-1712163600@www.mairie-cessy.fr
SUMMARY:Forum emploi alternance Jobs d'été Mission Locale
DESCRIPTION:
URL:https://www.mairie-cessy.fr/evenement/forum-emploi-alternance-jobs-dete-mission-locale/
LOCATION:Salle Jean Monnet/St Genis-Pouilly
CATEGORIES:Forum
ATTACH;FMTTYPE=image/png:https://www.mairie-cessy.fr/wp-content/uploads/2024/03/Forum-emploi-alternance-Pays-de-Gex.png
END:VEVENT
END:VCALENDAR