BEGIN:VCALENDAR
VERSION:2.0
PRODID:-//Commune de Cessy - ECPv6.15.11//NONSGML v1.0//EN
CALSCALE:GREGORIAN
METHOD:PUBLISH
X-ORIGINAL-URL:https://www.mairie-cessy.fr
X-WR-CALDESC:Évènements pour Commune de Cessy
REFRESH-INTERVAL;VALUE=DURATION:PT1H
X-Robots-Tag:noindex
X-PUBLISHED-TTL:PT1H
BEGIN:VTIMEZONE
TZID:Europe/Paris
BEGIN:DAYLIGHT
TZOFFSETFROM:+0100
TZOFFSETTO:+0200
TZNAME:CEST
DTSTART:20240331T010000
END:DAYLIGHT
BEGIN:STANDARD
TZOFFSETFROM:+0200
TZOFFSETTO:+0100
TZNAME:CET
DTSTART:20241027T010000
END:STANDARD
BEGIN:DAYLIGHT
TZOFFSETFROM:+0100
TZOFFSETTO:+0200
TZNAME:CEST
DTSTART:20250330T010000
END:DAYLIGHT
BEGIN:STANDARD
TZOFFSETFROM:+0200
TZOFFSETTO:+0100
TZNAME:CET
DTSTART:20251026T010000
END:STANDARD
BEGIN:DAYLIGHT
TZOFFSETFROM:+0100
TZOFFSETTO:+0200
TZNAME:CEST
DTSTART:20260329T010000
END:DAYLIGHT
BEGIN:STANDARD
TZOFFSETFROM:+0200
TZOFFSETTO:+0100
TZNAME:CET
DTSTART:20261025T010000
END:STANDARD
END:VTIMEZONE
BEGIN:VEVENT
DTSTART;TZID=Europe/Paris:20251018T203000
DTEND;TZID=Europe/Paris:20251018T230000
DTSTAMP:20260422T011710
CREATED:20250621T135400Z
LAST-MODIFIED:20251016T144711Z
UID:10611-1760819400-1760828400@www.mairie-cessy.fr
SUMMARY:L'humoriste Matteï à Cessy
DESCRIPTION:Jean-Michel MATTEÏ en spectacle à CESSY\, venez passer un bon moment entre chansons\, imitations et sketchs. \nSamedi 18 octobre 2025 à la salle du Vidolet à partir de 20h30. \nOrganisé par l’Amicale de personnel de Cessy  \nBilletterie en ligne : ici\n\n\n\n\n\n+ 18 ANS : 30€ \n\n\n\n– 18 ANS : 25 €s\n\n\n\n\n\n 
URL:https://www.mairie-cessy.fr/evenement/lhumouriste-mattei-a-cessy/
LOCATION:Salle du Vidolet
CATEGORIES:Humour
ATTACH;FMTTYPE=image/jpeg:https://www.mairie-cessy.fr/wp-content/uploads/2025/06/Mattei-rotated.jpg
END:VEVENT
END:VCALENDAR