BEGIN:VCALENDAR
VERSION:2.0
PRODID:-//Commune de Cessy - ECPv6.15.11//NONSGML v1.0//EN
CALSCALE:GREGORIAN
METHOD:PUBLISH
X-ORIGINAL-URL:https://www.mairie-cessy.fr
X-WR-CALDESC:Évènements pour Commune de Cessy
REFRESH-INTERVAL;VALUE=DURATION:PT1H
X-Robots-Tag:noindex
X-PUBLISHED-TTL:PT1H
BEGIN:VTIMEZONE
TZID:Europe/Paris
BEGIN:DAYLIGHT
TZOFFSETFROM:+0100
TZOFFSETTO:+0200
TZNAME:CEST
DTSTART:20230326T010000
END:DAYLIGHT
BEGIN:STANDARD
TZOFFSETFROM:+0200
TZOFFSETTO:+0100
TZNAME:CET
DTSTART:20231029T010000
END:STANDARD
BEGIN:DAYLIGHT
TZOFFSETFROM:+0100
TZOFFSETTO:+0200
TZNAME:CEST
DTSTART:20240331T010000
END:DAYLIGHT
BEGIN:STANDARD
TZOFFSETFROM:+0200
TZOFFSETTO:+0100
TZNAME:CET
DTSTART:20241027T010000
END:STANDARD
BEGIN:DAYLIGHT
TZOFFSETFROM:+0100
TZOFFSETTO:+0200
TZNAME:CEST
DTSTART:20250330T010000
END:DAYLIGHT
BEGIN:STANDARD
TZOFFSETFROM:+0200
TZOFFSETTO:+0100
TZNAME:CET
DTSTART:20251026T010000
END:STANDARD
END:VTIMEZONE
BEGIN:VEVENT
DTSTART;TZID=Europe/Paris:20240324T090000
DTEND;TZID=Europe/Paris:20240324T113000
DTSTAMP:20260423T210654
CREATED:20240313T084337Z
LAST-MODIFIED:20240313T084337Z
UID:7210-1711270800-1711279800@www.mairie-cessy.fr
SUMMARY:Nettoyage de printemps
DESCRIPTION:Pour fêter l’arrivée des beaux jours\, la ville et la société de chasse de Cessy organisent un nettoyage de printemps le dimanche 24 mars de 9h à 11h30 au départ de la mairie. Une action citoyenne\, conviviale et intergénérationnelle.\nTous les volontaires sont les bienvenus\, petits et grands !\nCet événement sensibilise les participants aux bons gestes à adopter\, à la gestion des déchets ainsi qu’au respect du travail quotidien des agents de la ville pour améliorer durablement notre cadre de vie.\nLes services de la commune mettront à disposition le matériel nécessaire\, gants\, pinces\, sacs poubelles… Vous pouvez aussi venir équiper de votre propre matériel. À l’issue des quelques heures de nettoyage\, un verre de l’amitié sera proposé.
URL:https://www.mairie-cessy.fr/evenement/nettoyage-de-printemps/
LOCATION:Mairie de Cessy\, 350 rue de la Mairie\, CESSY\, 01170\, France
CATEGORIES:Nature
ATTACH;FMTTYPE=image/jpeg:https://www.mairie-cessy.fr/wp-content/uploads/2024/03/Affiche_nettoyage-de-la-ville-copie-scaled.jpg
ORGANIZER;CN="Mairie":MAILTO:mairie-cessy@mairie-cessy.fr
END:VEVENT
END:VCALENDAR