BEGIN:VCALENDAR
VERSION:2.0
PRODID:-//Commune de Cessy - ECPv6.15.11//NONSGML v1.0//EN
CALSCALE:GREGORIAN
METHOD:PUBLISH
X-ORIGINAL-URL:https://www.mairie-cessy.fr
X-WR-CALDESC:Évènements pour Commune de Cessy
REFRESH-INTERVAL;VALUE=DURATION:PT1H
X-Robots-Tag:noindex
X-PUBLISHED-TTL:PT1H
BEGIN:VTIMEZONE
TZID:Europe/Paris
BEGIN:DAYLIGHT
TZOFFSETFROM:+0100
TZOFFSETTO:+0200
TZNAME:CEST
DTSTART:20230326T010000
END:DAYLIGHT
BEGIN:STANDARD
TZOFFSETFROM:+0200
TZOFFSETTO:+0100
TZNAME:CET
DTSTART:20231029T010000
END:STANDARD
BEGIN:DAYLIGHT
TZOFFSETFROM:+0100
TZOFFSETTO:+0200
TZNAME:CEST
DTSTART:20240331T010000
END:DAYLIGHT
BEGIN:STANDARD
TZOFFSETFROM:+0200
TZOFFSETTO:+0100
TZNAME:CET
DTSTART:20241027T010000
END:STANDARD
BEGIN:DAYLIGHT
TZOFFSETFROM:+0100
TZOFFSETTO:+0200
TZNAME:CEST
DTSTART:20250330T010000
END:DAYLIGHT
BEGIN:STANDARD
TZOFFSETFROM:+0200
TZOFFSETTO:+0100
TZNAME:CET
DTSTART:20251026T010000
END:STANDARD
END:VTIMEZONE
BEGIN:VEVENT
DTSTART;TZID=Europe/Paris:20240824T100000
DTEND;TZID=Europe/Paris:20240824T160000
DTSTAMP:20260423T134748
CREATED:20240722T084640Z
LAST-MODIFIED:20240722T085039Z
UID:8327-1724493600-1724515200@www.mairie-cessy.fr
SUMMARY:Journée de pêche gratuite pour tous
DESCRIPTION:Samedi 24 août De 10h à 12h et de 14h à 16h à l’étang de Cessy\, l’Amicale des pêcheurs organise une journée de pêche gratuite pour tous\, pas besoin de permis\n\n Concours « poisson-chat »\, l’APEC offrira aux 10 meilleurs pêcheurs la carte de pêche 2025 pour l’étang de Cessy.\n\nInscription obligatoire sur place à partir de 7h00 \nEmplacement et horaire libre \nDernière heure pour la pesée 17h00\nTechnique de pêche : canne avec ou sans moulinet une ligne\, un hameçon\n– Espèces pêchées : poisson chat\, perche soleil\, écrevisse\n– Les autres espèces doivent être immédiatement remises à l’eau\n–  Amorçage : seulement avec des farines végétales\, en quantité modérée !! \nInitiation à la pêche \nLe matériel et les appâts seront mis à disposition des pêcheurs pour cette activité \nExposition de posters « Etang de Cessy »\nPetite restauration sur place.
URL:https://www.mairie-cessy.fr/evenement/journee-de-peche-gratuite-pour-tous/
LOCATION:Etang de Cessy
CATEGORIES:Nature
ATTACH;FMTTYPE=image/jpeg:https://www.mairie-cessy.fr/wp-content/uploads/2024/07/man-fishing-holds-angling-rod-scaled.jpg
END:VEVENT
END:VCALENDAR