BEGIN:VCALENDAR
VERSION:2.0
PRODID:-//Commune de Cessy - ECPv6.15.11//NONSGML v1.0//EN
CALSCALE:GREGORIAN
METHOD:PUBLISH
X-WR-CALNAME:Commune de Cessy
X-ORIGINAL-URL:https://www.mairie-cessy.fr
X-WR-CALDESC:Évènements pour Commune de Cessy
REFRESH-INTERVAL;VALUE=DURATION:PT1H
X-Robots-Tag:noindex
X-PUBLISHED-TTL:PT1H
BEGIN:VTIMEZONE
TZID:Europe/Paris
BEGIN:DAYLIGHT
TZOFFSETFROM:+0100
TZOFFSETTO:+0200
TZNAME:CEST
DTSTART:20240331T010000
END:DAYLIGHT
BEGIN:STANDARD
TZOFFSETFROM:+0200
TZOFFSETTO:+0100
TZNAME:CET
DTSTART:20241027T010000
END:STANDARD
BEGIN:DAYLIGHT
TZOFFSETFROM:+0100
TZOFFSETTO:+0200
TZNAME:CEST
DTSTART:20250330T010000
END:DAYLIGHT
BEGIN:STANDARD
TZOFFSETFROM:+0200
TZOFFSETTO:+0100
TZNAME:CET
DTSTART:20251026T010000
END:STANDARD
BEGIN:DAYLIGHT
TZOFFSETFROM:+0100
TZOFFSETTO:+0200
TZNAME:CEST
DTSTART:20260329T010000
END:DAYLIGHT
BEGIN:STANDARD
TZOFFSETFROM:+0200
TZOFFSETTO:+0100
TZNAME:CET
DTSTART:20261025T010000
END:STANDARD
END:VTIMEZONE
BEGIN:VEVENT
DTSTART;TZID=Europe/Paris:20250524T100000
DTEND;TZID=Europe/Paris:20250524T180000
DTSTAMP:20260423T025505
CREATED:20250418T123909Z
LAST-MODIFIED:20250515T145445Z
UID:10132-1748080800-1748109600@www.mairie-cessy.fr
SUMMARY:Cessy fête la nature
DESCRIPTION:Venez à l’étang de Cessy le samedi 24 mai de 10h à 18h pour célébrer la nature avec de nombreuses animations gratuites pour toute la famille ! \nTEMPS FORTS \nDe 10h à 18h \n• Récupération des composteurs individuels. Pour les habitants ayant fait la demande à Pays de Gex Agglo \n• Course de draisienne \n11h pour les enfants de 2 à 3 ans \n14h pour les enfants de 4 à 5 ans \nGratuit sur inscription : 04 50 41 57 16 – communication@mairie-cessy.fr \nLes pilotes recevront tous une surprise. Les jeunes participants doivent apporter leur propre draisienne\, leur casque\, des vêtements longs\, des gants\, des chaussures fermées et des chaussettes hautes. \n • 15h Prise de parole et temps d’échanges avec Christophe Bouvier\, Maire de Cessy et l’équipe municipale \nEscape game : Sauvons le Pays de Gex \nUne immersion captivante et gratuite pour découvrir les enjeux environnementaux dans le Pays de Gex… de 9 à 99 ans !  \nVous aimez les défis ? Plongez-vous dans une aventure captivante lors de la fête de la nature à l’étang de Cessy ! En 60 minutes\, parviendrez-vous à résoudre les énigmes pour sauver le Pays de Gex ? Cet escape game permet aux participants d’en savoir plus sur l’environnement du territoire et les compétences de Pays de Gex Agglo dédiées aux enjeux environnementaux. \nSessions d’1h30 – choisissez votre créneau à l’inscription https://forms.gle/98o4qEhSw5vGysXV6 \nAdultes et enfants dès 9 ans (accompagnés jusqu’à 13 ans) \nL’inscription est obligatoire. \nExposition « Des Arbres et des Hommes » \nPlongez dans l’histoire fascinante des arbres et de leur relation avec l’homme à travers une exposition informative. \n  \nDe 10h à 18h\, en accès libre \nJeu de piste « Défense des forêts contre les incendies » \nAvec l’Office National des Forêts – 45 minutes – Tout public (enfant à partir de 6 ans) \nSur un parcours composé de plusieurs étapes\, les participants devront répondre à des questions portant sur la thématique. Un livret sera distribué au départ. \nBoîte à risques\, un jeu pédagogique qui vous plonge dans l’univers des énigmes liées aux risques naturels\, en particulier les feux de forêt. Apprenez à adopter les bons réflexes pour prévenir ces dangers et vous en protéger. \nLe jeu se déroule en groupes de 4 à 6 participants\, encadrés par un animateur. \nÀ partir de 12 ans. Chaque session dure environ 30 minutes\, suivie d’une quinzaine de minutes consacrées à l’analyse des réponses des joueurs. \nChasse au Trésor autour des Blocs Erratiques \nDurée : 45 minutes\nPartez à l’aventure et résolvez des énigmes pour découvrir les secrets de la nature. \nDe 13h à 18h : La Ferme des animaux (en bois) : Dans cette charmante petite ferme\, les animaux de la basse-cour et des champs se sont réunis pour jouer ! Venez rencontrer Klara la vache\, qui attend son petit fermier pour la traite ou profitez d’un moment de détente avec les moutons dans leur enclos. \nDe 2 à 10 ans \nATELIERS GRATUITS EN CONTINU \nFabrication de bombes de graines pollinisatrices \nAvec la Ressourcerie du Pays de Gex\nDurée : 20-30 minutes (toutes les heures)\nParticipez à cet atelier créatif et apprenez à confectionner des bombes de graines pour nourrir nos pollinisateurs. \nInitiations à la pêche \nAvec l’Amicale des Pêcheurs de l’Étang de Cessy\nDécouvrez le monde de la pêche à travers des activités variées : \n\nMicroscope\nInventaire de planctons\nAquariums avec poissons\nHerbiers\n\nLand Art \nAvec l’Escale Jeunes\nExprimez votre créativité en réalisant des œuvres d’art éphémères en pleine nature avec l’utilisation d’éléments naturels tels que des feuilles\, des pierres\, des branches et des fleurs. Les créations seront photographiées et exposées lors de la journée. \nCustomisation de Pots et Plantation de Graines \nAvec le Service Technique et la Cabane  \nPersonnalisez vos pots et apprenez à planter vos propres graines pour embellir votre jardin. \nAtelier de Recyclage \nAvec la bibliothèque \nFabriquez un Hérisson à partir d’un Livre Usagé\nDonnez une seconde vie à vos livres et créez un adorable hérisson en recyclant. \nNe ratez pas cette journée mémorable dédiée à la nature ! 🌳💚\nFoodtrucks présents – Evénement annulé en cas de pluie
URL:https://www.mairie-cessy.fr/evenement/cessy-fete-la-nature/
LOCATION:Etang de Cessy
CATEGORIES:Nature
ATTACH;FMTTYPE=image/jpeg:https://www.mairie-cessy.fr/wp-content/uploads/2025/04/Carre-RS.jpg
END:VEVENT
END:VCALENDAR