BEGIN:VCALENDAR
VERSION:2.0
PRODID:-//Commune de Cessy - ECPv6.15.11//NONSGML v1.0//EN
CALSCALE:GREGORIAN
METHOD:PUBLISH
X-WR-CALNAME:Commune de Cessy
X-ORIGINAL-URL:https://www.mairie-cessy.fr
X-WR-CALDESC:Évènements pour Commune de Cessy
REFRESH-INTERVAL;VALUE=DURATION:PT1H
X-Robots-Tag:noindex
X-PUBLISHED-TTL:PT1H
BEGIN:VTIMEZONE
TZID:Europe/Paris
BEGIN:DAYLIGHT
TZOFFSETFROM:+0100
TZOFFSETTO:+0200
TZNAME:CEST
DTSTART:20240331T010000
END:DAYLIGHT
BEGIN:STANDARD
TZOFFSETFROM:+0200
TZOFFSETTO:+0100
TZNAME:CET
DTSTART:20241027T010000
END:STANDARD
BEGIN:DAYLIGHT
TZOFFSETFROM:+0100
TZOFFSETTO:+0200
TZNAME:CEST
DTSTART:20250330T010000
END:DAYLIGHT
BEGIN:STANDARD
TZOFFSETFROM:+0200
TZOFFSETTO:+0100
TZNAME:CET
DTSTART:20251026T010000
END:STANDARD
BEGIN:DAYLIGHT
TZOFFSETFROM:+0100
TZOFFSETTO:+0200
TZNAME:CEST
DTSTART:20260329T010000
END:DAYLIGHT
BEGIN:STANDARD
TZOFFSETFROM:+0200
TZOFFSETTO:+0100
TZNAME:CET
DTSTART:20261025T010000
END:STANDARD
END:VTIMEZONE
BEGIN:VEVENT
DTSTART;TZID=Europe/Paris:20251209T190000
DTEND;TZID=Europe/Paris:20251209T203000
DTSTAMP:20260421T121241
CREATED:20251024T122152Z
LAST-MODIFIED:20251124T122826Z
UID:11634-1765306800-1765312200@www.mairie-cessy.fr
SUMMARY:Réunion publique - Sécurité et prévention
DESCRIPTION:La Ville de Cessy invite les habitants à participer à la réunion publique sur la sécurité et la prévention\, qui se tiendra : \nMardi 9 décembre 2025 à 19h00Salle du VidoletEn présence de la gendarmerie de Gex et des membres du réseau de participation citoyenne. \nAu programme : \n\nPrésentation des statistiques locales sur la sécurité\nSensibilisation aux cambriolages et conseils de prévention\n(Re)découverte de l’application pour la sécurité\nTemps de questions diverses pour échanger avec les forces de l’ordre et les représentants de la commune\n\nCette rencontre vise à renforcer les liens entre habitants\, commune et forces de l’ordre\, pour promouvoir une vigilance partagée et une sécurité de proximité. \n👥 Ouvert à tous\, pour s’informer\, échanger et contribuer à la tranquillité de vie à Cessy.
URL:https://www.mairie-cessy.fr/evenement/reunion-publique-participation-citoyenne/
LOCATION:Espace du Vidolet\, rue de la Mairie\, Cessy\, Ain\, 01170\, France
CATEGORIES:Réunion publique
ATTACH;FMTTYPE=image/png:https://www.mairie-cessy.fr/wp-content/uploads/2025/10/Affiche_reunion-publique-5-novembre-2024_participation-citoyenne-1-scaled.png
END:VEVENT
END:VCALENDAR