BEGIN:VCALENDAR
VERSION:2.0
PRODID:-//Commune de Cessy - ECPv6.15.11//NONSGML v1.0//EN
CALSCALE:GREGORIAN
METHOD:PUBLISH
X-WR-CALNAME:Commune de Cessy
X-ORIGINAL-URL:https://www.mairie-cessy.fr
X-WR-CALDESC:Évènements pour Commune de Cessy
REFRESH-INTERVAL;VALUE=DURATION:PT1H
X-Robots-Tag:noindex
X-PUBLISHED-TTL:PT1H
BEGIN:VTIMEZONE
TZID:Europe/Paris
BEGIN:DAYLIGHT
TZOFFSETFROM:+0100
TZOFFSETTO:+0200
TZNAME:CEST
DTSTART:20240331T010000
END:DAYLIGHT
BEGIN:STANDARD
TZOFFSETFROM:+0200
TZOFFSETTO:+0100
TZNAME:CET
DTSTART:20241027T010000
END:STANDARD
BEGIN:DAYLIGHT
TZOFFSETFROM:+0100
TZOFFSETTO:+0200
TZNAME:CEST
DTSTART:20250330T010000
END:DAYLIGHT
BEGIN:STANDARD
TZOFFSETFROM:+0200
TZOFFSETTO:+0100
TZNAME:CET
DTSTART:20251026T010000
END:STANDARD
BEGIN:DAYLIGHT
TZOFFSETFROM:+0100
TZOFFSETTO:+0200
TZNAME:CEST
DTSTART:20260329T010000
END:DAYLIGHT
BEGIN:STANDARD
TZOFFSETFROM:+0200
TZOFFSETTO:+0100
TZNAME:CET
DTSTART:20261025T010000
END:STANDARD
END:VTIMEZONE
BEGIN:VEVENT
DTSTART;TZID=Europe/Paris:20250109T100000
DTEND;TZID=Europe/Paris:20250111T180000
DTSTAMP:20260422T124522
CREATED:20241220T143730Z
LAST-MODIFIED:20241220T143730Z
UID:9306-1736416800-1736618400@www.mairie-cessy.fr
SUMMARY:Les Villages d’Or\, résidence séniors à Cessy : journées portes ouvertes du 9 au 11 janvier 2025
DESCRIPTION:La nouvelle résidence seniors\, située au 234 rue de la Bergerie\, offre 115 appartements de deux ou trois pièces à louer\, que les résidents peuvent personnaliser avec leurs propres meubles pour conserver leurs repères. \nUn environnement convivial et sécurisé\nAu cœur de la résidence\, un club-house incarne l’esprit des Villages d’Or : véritable lieu de partage et de rencontres\, il est animé par une régisseuse qui propose quotidiennement des activités variées. Ce lieu de vie s’ouvre sur une ter- rasse\, agrémentée d’un boulodrome et d’un potager partagé\, invitant à profiter pleinement des espaces extérieurs. \nJournées portes ouvertes\nVenez découvrir notre nouvelle résidence lors de nos journées portes ouvertes\, qui auront lieu du 9 au 11 janvier 2025\, de 10h à 18h sans rendez-vous. C’est l’occasion parfaite de visiter les appartements\, rencontrer notre régisseuse et échanger sur le fonctionnement de la résidence. \nInformations pratiques \n\nAppartements T2 et T3 à louer à partir de 741 € par mois\, charges comprises.\nAides au logement déductibles\, sous réserve d’éligibilité.\n\nPour plus d’informations ou pour planifier une visite / 06 84 54 66 54 – cessy@lesvillagesdor.fr.
URL:https://www.mairie-cessy.fr/evenement/les-villages-dor-residence-seniors-a-cessy-journees-portes-ouvertes-du-9-au-11-janvier-2025/
LOCATION:Résidence séniors\, 234 rue de la Bergerie\, Cessy\, France
CATEGORIES:Seniors
ATTACH;FMTTYPE=image/jpeg:https://www.mairie-cessy.fr/wp-content/uploads/2024/12/residence-seniors.jpg
END:VEVENT
END:VCALENDAR