BEGIN:VCALENDAR
VERSION:2.0
PRODID:-//Commune de Cessy - ECPv6.15.11//NONSGML v1.0//EN
CALSCALE:GREGORIAN
METHOD:PUBLISH
X-WR-CALNAME:Commune de Cessy
X-ORIGINAL-URL:https://www.mairie-cessy.fr
X-WR-CALDESC:Évènements pour Commune de Cessy
REFRESH-INTERVAL;VALUE=DURATION:PT1H
X-Robots-Tag:noindex
X-PUBLISHED-TTL:PT1H
BEGIN:VTIMEZONE
TZID:Europe/Paris
BEGIN:DAYLIGHT
TZOFFSETFROM:+0100
TZOFFSETTO:+0200
TZNAME:CEST
DTSTART:20240331T010000
END:DAYLIGHT
BEGIN:STANDARD
TZOFFSETFROM:+0200
TZOFFSETTO:+0100
TZNAME:CET
DTSTART:20241027T010000
END:STANDARD
BEGIN:DAYLIGHT
TZOFFSETFROM:+0100
TZOFFSETTO:+0200
TZNAME:CEST
DTSTART:20250330T010000
END:DAYLIGHT
BEGIN:STANDARD
TZOFFSETFROM:+0200
TZOFFSETTO:+0100
TZNAME:CET
DTSTART:20251026T010000
END:STANDARD
BEGIN:DAYLIGHT
TZOFFSETFROM:+0100
TZOFFSETTO:+0200
TZNAME:CEST
DTSTART:20260329T010000
END:DAYLIGHT
BEGIN:STANDARD
TZOFFSETFROM:+0200
TZOFFSETTO:+0100
TZNAME:CET
DTSTART:20261025T010000
END:STANDARD
END:VTIMEZONE
BEGIN:VEVENT
DTSTART;TZID=Europe/Paris:20251017T080000
DTEND;TZID=Europe/Paris:20251017T200000
DTSTAMP:20260421T234824
CREATED:20250401T095032Z
LAST-MODIFIED:20250904T084222Z
UID:10009-1760688000-1760731200@www.mairie-cessy.fr
SUMMARY:Sortie pour les séniors
DESCRIPTION:Le Centre Communal d’Action Sociale\, en partenariat avec le centre social Les Libellules de Gex\, organise une sortie culturelle spécialement dédiée aux séniors de 70 ans et plus.\nElle constitue une belle occasion de découvrir des lieux emblématiques de notre région tout en favorisant les échanges et la convivialité. Le tarif inclut uniquement le transport ainsi que l’entrée aux sites visités. Le repas du midi ne sera pas pris en charge. \nLa citadelle de Besançon \nVendredi 17 octobre 2025 \nTarifs : 15€ (hors repas) \n+ infos : Centre Communal d’Action Sociale\n04 50 41 70 10 – ccas@mairie-cessy.fr  \nPlaces limitées\, ouverture des inscriptions dès le 22 septembre
URL:https://www.mairie-cessy.fr/evenement/sortie-pour-les-seniors/
CATEGORIES:Seniors
ATTACH;FMTTYPE=application/pdf:https://www.mairie-cessy.fr/wp-content/uploads/2025/04/affiche-journee-a-Besancon.pdf
END:VEVENT
END:VCALENDAR