BEGIN:VCALENDAR
VERSION:2.0
PRODID:-//Commune de Cessy - ECPv6.15.11//NONSGML v1.0//EN
CALSCALE:GREGORIAN
METHOD:PUBLISH
X-WR-CALNAME:Commune de Cessy
X-ORIGINAL-URL:https://www.mairie-cessy.fr
X-WR-CALDESC:Évènements pour Commune de Cessy
REFRESH-INTERVAL;VALUE=DURATION:PT1H
X-Robots-Tag:noindex
X-PUBLISHED-TTL:PT1H
BEGIN:VTIMEZONE
TZID:Europe/Paris
BEGIN:DAYLIGHT
TZOFFSETFROM:+0100
TZOFFSETTO:+0200
TZNAME:CEST
DTSTART:20230326T010000
END:DAYLIGHT
BEGIN:STANDARD
TZOFFSETFROM:+0200
TZOFFSETTO:+0100
TZNAME:CET
DTSTART:20231029T010000
END:STANDARD
BEGIN:DAYLIGHT
TZOFFSETFROM:+0100
TZOFFSETTO:+0200
TZNAME:CEST
DTSTART:20240331T010000
END:DAYLIGHT
BEGIN:STANDARD
TZOFFSETFROM:+0200
TZOFFSETTO:+0100
TZNAME:CET
DTSTART:20241027T010000
END:STANDARD
BEGIN:DAYLIGHT
TZOFFSETFROM:+0100
TZOFFSETTO:+0200
TZNAME:CEST
DTSTART:20250330T010000
END:DAYLIGHT
BEGIN:STANDARD
TZOFFSETFROM:+0200
TZOFFSETTO:+0100
TZNAME:CET
DTSTART:20251026T010000
END:STANDARD
END:VTIMEZONE
BEGIN:VEVENT
DTSTART;TZID=Europe/Paris:20241018T160000
DTEND;TZID=Europe/Paris:20241018T170000
DTSTAMP:20260420T092000
CREATED:20241008T143401Z
LAST-MODIFIED:20241008T143401Z
UID:8808-1729267200-1729270800@www.mairie-cessy.fr
SUMMARY:Opération brioches : soyez gourmands
DESCRIPTION:Le CCAS participe à l’opération Brioche en faveur des personnes en situation de handicap en partenariat avec l’ADAPEI de l’Ain. Les fonds récoltés bénéficieront à l’association pour financer des actions concrètes pour les personnes en situation de handicap. \nVendredi 18 octobre devant l’école du Verger et le centre de loisirs de 16h à 17h
URL:https://www.mairie-cessy.fr/evenement/operation-brioches-soyez-gourmands/
LOCATION:Ecoles du Verger
CATEGORIES:Associatifs,Social
ATTACH;FMTTYPE=image/jpeg:https://www.mairie-cessy.fr/wp-content/uploads/2024/10/Flyer_ventre-brioche-Cessy-1-scaled.jpg
END:VEVENT
BEGIN:VEVENT
DTSTART;TZID=Europe/Paris:20241030T140000
DTEND;TZID=Europe/Paris:20241030T170000
DTSTAMP:20260420T092000
CREATED:20241009T084242Z
LAST-MODIFIED:20241009T084242Z
UID:8871-1730296800-1730307600@www.mairie-cessy.fr
SUMMARY:Les cafés ambulants : temps- jeux intergénérationnels
DESCRIPTION:Le mercredi 30 octobre de 14h à 17h\, le CCAS de Cessy et le CSC Les Libellules de Gex vous invitent à la petite salle du Vidolet pour un temps-jeux intergénérationnels avec les enfants de la Cabane. \nGoûter offert ! \nRenseignements : 04 50 41 70 10
URL:https://www.mairie-cessy.fr/evenement/les-cafes-ambulants-temps-jeux-intergenerationnels/
LOCATION:Salle du Vidolet
CATEGORIES:Enfance/jeunesse,Social
ATTACH;FMTTYPE=image/jpeg:https://www.mairie-cessy.fr/wp-content/uploads/2024/10/LES-CAFES-AMBULANT-2024-1-scaled.jpg
ORGANIZER;CN="Centre Socioculturel Les Libellules":MAILTO:secretariat@cscleslibellules.fr
END:VEVENT
END:VCALENDAR