BEGIN:VCALENDAR
VERSION:2.0
PRODID:-//Commune de Cessy - ECPv6.15.11//NONSGML v1.0//EN
CALSCALE:GREGORIAN
METHOD:PUBLISH
X-WR-CALNAME:Commune de Cessy
X-ORIGINAL-URL:https://www.mairie-cessy.fr
X-WR-CALDESC:Évènements pour Commune de Cessy
REFRESH-INTERVAL;VALUE=DURATION:PT1H
X-Robots-Tag:noindex
X-PUBLISHED-TTL:PT1H
BEGIN:VTIMEZONE
TZID:Europe/Paris
BEGIN:DAYLIGHT
TZOFFSETFROM:+0100
TZOFFSETTO:+0200
TZNAME:CEST
DTSTART:20220327T010000
END:DAYLIGHT
BEGIN:STANDARD
TZOFFSETFROM:+0200
TZOFFSETTO:+0100
TZNAME:CET
DTSTART:20221030T010000
END:STANDARD
BEGIN:DAYLIGHT
TZOFFSETFROM:+0100
TZOFFSETTO:+0200
TZNAME:CEST
DTSTART:20230326T010000
END:DAYLIGHT
BEGIN:STANDARD
TZOFFSETFROM:+0200
TZOFFSETTO:+0100
TZNAME:CET
DTSTART:20231029T010000
END:STANDARD
BEGIN:DAYLIGHT
TZOFFSETFROM:+0100
TZOFFSETTO:+0200
TZNAME:CEST
DTSTART:20240331T010000
END:DAYLIGHT
BEGIN:STANDARD
TZOFFSETFROM:+0200
TZOFFSETTO:+0100
TZNAME:CET
DTSTART:20241027T010000
END:STANDARD
END:VTIMEZONE
BEGIN:VEVENT
DTSTART;VALUE=DATE:20230607
DTEND;VALUE=DATE:20230608
DTSTAMP:20260423T094641
CREATED:20230524T101138Z
LAST-MODIFIED:20230524T101300Z
UID:4808-1686096000-1686182399@www.mairie-cessy.fr
SUMMARY:Mission locale : forum logement à Oyonnax - Bus au départ de Valserhône
DESCRIPTION:La Mission locale organise son forum logement le 7 juin de 14h00 à 17h30 à Valexpo Oyonnax. \nDe nombreux partenaires seront présents afin de répondre aux questions des jeunes et des partenaires. \nVous pourrez trouver sur le forum : la Caf\, Semcoda\, Dynacité\, Alfa 3A\, RECYCL’AIRE\, la maison de l’habitat\, le centre des impôts\, l’Adil\, EDF\, le SIAO\, Form toit et action logement.  \nDe plus\, des ateliers ludiques seront proposés autour du budget et de l’ameublement. \n Les jeunes auront accès à des informations sur \n\nComment rechercher un logement ?\nQuels sont les différents types de logement\nQuels aides sont mobilisables ?\nQuel budget pour un logement ?\nQui peut m’accompagner dans mes démarches ?\nComment gérer mon logement écologiquement ?\n\n Ouvert tous public et gratuit nous vous attendons nombreux. \n La Mission Locale met en place un bus partant de Gex avec un passage à Valserhône à destination d’Oyonnax.  \nEn fonction des places disponibles\, vos publics seront les bienvenus. Autorisation parentale obligatoire pour les jeunes mineurs. \nContacts : \n– Juliette Desbois référente logement pour le Pays de Gex 04 50 41 60 46 \n– Karine Casenove\, référente logement pour le Pays Bellegardien 04 50 48 09 86
URL:https://www.mairie-cessy.fr/evenement/4808/
LOCATION:Valexpo Oyonnax
CATEGORIES:Social
ATTACH;FMTTYPE=image/png:https://www.mairie-cessy.fr/wp-content/uploads/2023/05/forum-jeune.png
END:VEVENT
END:VCALENDAR