BEGIN:VCALENDAR
VERSION:2.0
PRODID:-//Commune de Cessy - ECPv6.15.11//NONSGML v1.0//EN
CALSCALE:GREGORIAN
METHOD:PUBLISH
X-WR-CALNAME:Commune de Cessy
X-ORIGINAL-URL:https://www.mairie-cessy.fr
X-WR-CALDESC:Évènements pour Commune de Cessy
REFRESH-INTERVAL;VALUE=DURATION:PT1H
X-Robots-Tag:noindex
X-PUBLISHED-TTL:PT1H
BEGIN:VTIMEZONE
TZID:Europe/Paris
BEGIN:DAYLIGHT
TZOFFSETFROM:+0100
TZOFFSETTO:+0200
TZNAME:CEST
DTSTART:20220327T010000
END:DAYLIGHT
BEGIN:STANDARD
TZOFFSETFROM:+0200
TZOFFSETTO:+0100
TZNAME:CET
DTSTART:20221030T010000
END:STANDARD
BEGIN:DAYLIGHT
TZOFFSETFROM:+0100
TZOFFSETTO:+0200
TZNAME:CEST
DTSTART:20230326T010000
END:DAYLIGHT
BEGIN:STANDARD
TZOFFSETFROM:+0200
TZOFFSETTO:+0100
TZNAME:CET
DTSTART:20231029T010000
END:STANDARD
BEGIN:DAYLIGHT
TZOFFSETFROM:+0100
TZOFFSETTO:+0200
TZNAME:CEST
DTSTART:20240331T010000
END:DAYLIGHT
BEGIN:STANDARD
TZOFFSETFROM:+0200
TZOFFSETTO:+0100
TZNAME:CET
DTSTART:20241027T010000
END:STANDARD
END:VTIMEZONE
BEGIN:VEVENT
DTSTART;TZID=Europe/Paris:20231005T180000
DTEND;TZID=Europe/Paris:20231005T193000
DTSTAMP:20260423T042221
CREATED:20231003T125129Z
LAST-MODIFIED:20231003T125129Z
UID:5956-1696528800-1696534200@www.mairie-cessy.fr
SUMMARY:Réunion publique AESIO mutuelle
DESCRIPTION:La commune de Cessy s’est engagée dans une démarche de “mutuelle communale” pour améliorer l’accès aux soins aux habitants\, et notamment des non-salariés (étudiants\, artisans\, retraités\, inactifs …). \nUne convention avec AESIO Mutuelle a été signée afin de proposer aux habitants de la commune un large choix de prestation santé à des tarifs préférentiels. \nAucune formalité médicale à l’adhésion\, une couverture immédiate\, sans conditions d’âge\, ni de conditions de ressources\, toutes les démarches de résiliation auprès de la mutuelle précédente sont gérées par AÉSIO Mutuelle. \nLa Commune n’apporte aucune participation financière que ce soit à la mise en œuvre du dispositif ou aux contrats des futurs adhérents. \nUne seule condition : être Cessiens ! \nLa Mutuelle AESIO propose également une couverture spécifique aux frontaliers affiliés au régime de la Sécurité Sociale française ou suisse. \n\nUne réunion publique se tiendra le jeudi 5 octobre 2023 à 18h à la salle du Vidolet\n\nUne de permanence accessible avec ou sans rendez-vous est organisée en Mairie de Cessy vendredi 6 octobre à partir de 09h30. \n 
URL:https://www.mairie-cessy.fr/evenement/reunion-publique-aesio-mutuelle/
LOCATION:Espace du Vidolet\, rue de la Mairie\, Cessy\, Ain\, 01170\, France
CATEGORIES:Social
ATTACH;FMTTYPE=image/jpeg:https://www.mairie-cessy.fr/wp-content/uploads/2023/10/Affiche-Annonce-Permanence-2023-1-scaled.jpg
END:VEVENT
END:VCALENDAR