BEGIN:VCALENDAR
VERSION:2.0
PRODID:-//Commune de Cessy - ECPv6.15.11//NONSGML v1.0//EN
CALSCALE:GREGORIAN
METHOD:PUBLISH
X-WR-CALNAME:Commune de Cessy
X-ORIGINAL-URL:https://www.mairie-cessy.fr
X-WR-CALDESC:Évènements pour Commune de Cessy
REFRESH-INTERVAL;VALUE=DURATION:PT1H
X-Robots-Tag:noindex
X-PUBLISHED-TTL:PT1H
BEGIN:VTIMEZONE
TZID:Europe/Paris
BEGIN:DAYLIGHT
TZOFFSETFROM:+0100
TZOFFSETTO:+0200
TZNAME:CEST
DTSTART:20240331T010000
END:DAYLIGHT
BEGIN:STANDARD
TZOFFSETFROM:+0200
TZOFFSETTO:+0100
TZNAME:CET
DTSTART:20241027T010000
END:STANDARD
BEGIN:DAYLIGHT
TZOFFSETFROM:+0100
TZOFFSETTO:+0200
TZNAME:CEST
DTSTART:20250330T010000
END:DAYLIGHT
BEGIN:STANDARD
TZOFFSETFROM:+0200
TZOFFSETTO:+0100
TZNAME:CET
DTSTART:20251026T010000
END:STANDARD
BEGIN:DAYLIGHT
TZOFFSETFROM:+0100
TZOFFSETTO:+0200
TZNAME:CEST
DTSTART:20260329T010000
END:DAYLIGHT
BEGIN:STANDARD
TZOFFSETFROM:+0200
TZOFFSETTO:+0100
TZNAME:CET
DTSTART:20261025T010000
END:STANDARD
END:VTIMEZONE
BEGIN:VEVENT
DTSTART;TZID=Europe/Paris:20251102T100000
DTEND;TZID=Europe/Paris:20251102T180000
DTSTAMP:20260420T023932
CREATED:20250923T095847Z
LAST-MODIFIED:20250923T095956Z
UID:11366-1762077600-1762106400@www.mairie-cessy.fr
SUMMARY:Cyclo-Cross - 18 ème édition
DESCRIPTION:L’Union Cycliste Gessienne est heureuse d’annoncer l’édition 2025 du Cyclo-Cross de Cessy ! Comme chaque année\, cet événement rassemblera passionnés de vélo\, sportifs et spectateurs dans une ambiance conviviale et dynamique. \nLieu : Etang de Cessy Date : Dimanche 2 novembre 2025 dès 10h00 \nContact & réservations : Union Cycliste Gessienne : ucgessienne@orange.fr
URL:https://www.mairie-cessy.fr/evenement/cyclo-cross-18-eme-edition/
LOCATION:Etang de Cessy
CATEGORIES:Sportifs
ATTACH;FMTTYPE=application/pdf:https://www.mairie-cessy.fr/wp-content/uploads/2025/09/2025CycloCrossCessyTarifPub.pdf
END:VEVENT
END:VCALENDAR