BEGIN:VCALENDAR
VERSION:2.0
PRODID:-//Commune de Cessy - ECPv6.15.11//NONSGML v1.0//EN
CALSCALE:GREGORIAN
METHOD:PUBLISH
X-ORIGINAL-URL:https://www.mairie-cessy.fr
X-WR-CALDESC:Évènements pour Commune de Cessy
REFRESH-INTERVAL;VALUE=DURATION:PT1H
X-Robots-Tag:noindex
X-PUBLISHED-TTL:PT1H
BEGIN:VTIMEZONE
TZID:Europe/Paris
BEGIN:DAYLIGHT
TZOFFSETFROM:+0100
TZOFFSETTO:+0200
TZNAME:CEST
DTSTART:20230326T010000
END:DAYLIGHT
BEGIN:STANDARD
TZOFFSETFROM:+0200
TZOFFSETTO:+0100
TZNAME:CET
DTSTART:20231029T010000
END:STANDARD
BEGIN:DAYLIGHT
TZOFFSETFROM:+0100
TZOFFSETTO:+0200
TZNAME:CEST
DTSTART:20240331T010000
END:DAYLIGHT
BEGIN:STANDARD
TZOFFSETFROM:+0200
TZOFFSETTO:+0100
TZNAME:CET
DTSTART:20241027T010000
END:STANDARD
BEGIN:DAYLIGHT
TZOFFSETFROM:+0100
TZOFFSETTO:+0200
TZNAME:CEST
DTSTART:20250330T010000
END:DAYLIGHT
BEGIN:STANDARD
TZOFFSETFROM:+0200
TZOFFSETTO:+0100
TZNAME:CET
DTSTART:20251026T010000
END:STANDARD
END:VTIMEZONE
BEGIN:VEVENT
DTSTART;TZID=Europe/Paris:20240602T100000
DTEND;TZID=Europe/Paris:20240602T120000
DTSTAMP:20260423T043038
CREATED:20240326T112416Z
LAST-MODIFIED:20240501T071640Z
UID:7382-1717322400-1717329600@www.mairie-cessy.fr
SUMMARY:La troisième édition de la Color Run est lancée
DESCRIPTION:https://www.njuko.net/colorruncessy2024/select_com \nDans le cadre du label Terre de Jeux 2024\, la Color run revient à Cessy\, en partenariat avec l’association Monts Jura Handisports. \nLe départ sera donné à 10h\, sur la place du Vidolet\, après un échauffement en musique. \n  \nAmbiance festive garantie \nEn courant\, en marchant ou en sautant sur un pied : peu importe\, le principe sera avant tout de s’amuser. \nSur quatre points répartis le long du parcours de 5 kilomètres\, de la poudre colorée 100% naturelle aspergera les coureurs avec des animations surprises proposées par les associations locales. Une chose est sûre\, les participants vont en voir de toutes les couleurs. \n  \nUne course sportive et amusante pour la bonne cause ! \nRespect\, égalité\, solidarité\, partage ou encore entraide figurent parmi les valeurs fédératrices du sport. \nLes frais d’inscription à la course seront reversés au profit de l’association Monts Jura Handisports et seront destinés au financement des activités handisport\, au développement d’actions et de nouveaux projets. \nTarifs : 8€ pour les 6/17 ans – 12€ pour les + de 17 ans. \nBilletterie en ligne :
URL:https://www.mairie-cessy.fr/evenement/la-troisieme-edition-de-la-color-run-est-lancee/
LOCATION:Espace du Vidolet\, rue de la Mairie\, Cessy\, Ain\, 01170\, France
CATEGORIES:Associatifs,Sportifs
ATTACH;FMTTYPE=image/jpeg:https://www.mairie-cessy.fr/wp-content/uploads/2024/03/230514-Color-run_pass-sport-74-scaled.jpg
END:VEVENT
BEGIN:VEVENT
DTSTART;TZID=Europe/Paris:20240602T110000
DTEND;TZID=Europe/Paris:20240602T170000
DTSTAMP:20260423T043038
CREATED:20240326T112522Z
LAST-MODIFIED:20240326T112522Z
UID:7385-1717326000-1717347600@www.mairie-cessy.fr
SUMMARY:Tous au forum des associations !
DESCRIPTION:De 11h à 17h\, les associations vous donnent rendez-vous pour une journée d’échanges. Elles vous proposent de (re)découvrir leurs activités et de recueillir toutes les informations dont vous avez besoin. \nPrès de 30 stands seront installés dans la salle du Vidolet. \nDes animations et des démonstrations  \nEn plus des stands d’information\, une multitude de démonstrations sportives\, à l’image de la grande diversité du tissu associatif cessien\, animeront la journée : capoeira\, judo\, self défense\, twirling bâton\, pôle dance\, tir à l’arc\, rugby et bien d’autres ! \nDe nombreuses animations seront également au programme : ateliers d’initiations ludiques. structures gonflables\, mur d’escalade\, parcours de BMX\, etc.
URL:https://www.mairie-cessy.fr/evenement/tous-au-forum-des-associations/
LOCATION:Espace du Vidolet\, rue de la Mairie\, Cessy\, Ain\, 01170\, France
CATEGORIES:Associatifs,Sportifs
ATTACH;FMTTYPE=image/jpeg:https://www.mairie-cessy.fr/wp-content/uploads/2024/03/230514-Color-run_pass-sport-266-scaled.jpg
END:VEVENT
END:VCALENDAR