BEGIN:VCALENDAR
VERSION:2.0
PRODID:-//Commune de Cessy - ECPv6.15.11//NONSGML v1.0//EN
CALSCALE:GREGORIAN
METHOD:PUBLISH
X-ORIGINAL-URL:https://www.mairie-cessy.fr
X-WR-CALDESC:Évènements pour Commune de Cessy
REFRESH-INTERVAL;VALUE=DURATION:PT1H
X-Robots-Tag:noindex
X-PUBLISHED-TTL:PT1H
BEGIN:VTIMEZONE
TZID:Europe/Paris
BEGIN:DAYLIGHT
TZOFFSETFROM:+0100
TZOFFSETTO:+0200
TZNAME:CEST
DTSTART:20230326T010000
END:DAYLIGHT
BEGIN:STANDARD
TZOFFSETFROM:+0200
TZOFFSETTO:+0100
TZNAME:CET
DTSTART:20231029T010000
END:STANDARD
BEGIN:DAYLIGHT
TZOFFSETFROM:+0100
TZOFFSETTO:+0200
TZNAME:CEST
DTSTART:20240331T010000
END:DAYLIGHT
BEGIN:STANDARD
TZOFFSETFROM:+0200
TZOFFSETTO:+0100
TZNAME:CET
DTSTART:20241027T010000
END:STANDARD
BEGIN:DAYLIGHT
TZOFFSETFROM:+0100
TZOFFSETTO:+0200
TZNAME:CEST
DTSTART:20250330T010000
END:DAYLIGHT
BEGIN:STANDARD
TZOFFSETFROM:+0200
TZOFFSETTO:+0100
TZNAME:CET
DTSTART:20251026T010000
END:STANDARD
END:VTIMEZONE
BEGIN:VEVENT
DTSTART;TZID=Europe/Paris:20241207T080000
DTEND;TZID=Europe/Paris:20241208T170000
DTSTAMP:20260422T195229
CREATED:20241129T160301Z
LAST-MODIFIED:20241129T160301Z
UID:9142-1733558400-1733677200@www.mairie-cessy.fr
SUMMARY:Championnat Auvergne Rhône-Alpes - 17e cyclo-cross
DESCRIPTION:Cinq cents cyclistes attendus pour les championnats régionaux de cyclo-cross \nLes 7 et 8 décembre 2024\, préparez-vous à vivre deux jours de compétition intense\, avec près de 500 coureurs attendus à l’étang de Cessy pour s’affronter sur un parcours varié et exigeant.\nLe cyclo-cross est une discipline de vélo qui se pratique principalement en hiver. Les coureurs doivent naviguer sur un circuit composé de terrains variés\, incluant des sections de boue\, de sable\, des côtes et des obstacles naturels. Ce sport allie endurance\, technique et agilité\, il offre un spectacle captivant pour les spectateurs. Les participants doivent souvent descendre de leur vélo pour franchir certains obstacles\, ce qui rend chaque course encore plus palpitante.\nEn tant que premier comité de France en cyclo-cross\, le Comité Rhône-Alpes est fier de promouvoir ce sport et d’accueillir tous ceux qui souhaitent partager cette passion. Les championnats de cyclo-cross de la Région Auvergne-Rhône-Alpes\, les 7 et 8 décembre seront l’occasion idéale de (re)découvrir cette discipline dynamique et de soutenir nos athlètes locaux. Que vous soyez un passionné de cyclisme ou simplement curieux\, la ville de Cessy\, en partenariat avec l’Union Cycliste Gessienne (UCG) vous invite à venir encourager les coureurs et à profiter de l’ambiance festive qui régnera à l’étang lors de cet événement.\nPour agrémenter cette journée\, une restauration sera proposée par Jojo la frite et la buvette sera gérée par les sapeurs-pompiers de Cessy.
URL:https://www.mairie-cessy.fr/evenement/championnat-auvergne-rhone-alpes-17e-cyclo-cross/
LOCATION:Etang de Cessy
CATEGORIES:Sportifs
ATTACH;FMTTYPE=image/jpeg:https://www.mairie-cessy.fr/wp-content/uploads/2024/11/Affiche2024.UCG_.jpg
ORGANIZER;CN="Union Cycliste Gessienne":MAILTO:cyclisme@ucgessienne.fr
END:VEVENT
END:VCALENDAR